BEGIN:VCALENDAR
VERSION:2.0
PRODID:-//GRAN FONDO - Corse, gare e granfondo in Italia - ECPv4.9.14//NONSGML v1.0//EN
CALSCALE:GREGORIAN
METHOD:PUBLISH
X-WR-CALNAME:GRAN FONDO - Corse, gare e granfondo in Italia
X-ORIGINAL-URL:https://www.granfondo.it
X-WR-CALDESC:Eventi per GRAN FONDO - Corse, gare e granfondo in Italia
BEGIN:VTIMEZONE
TZID:Europe/Paris
BEGIN:DAYLIGHT
TZOFFSETFROM:+0100
TZOFFSETTO:+0200
TZNAME:CEST
DTSTART:20150329T010000
END:DAYLIGHT
BEGIN:STANDARD
TZOFFSETFROM:+0200
TZOFFSETTO:+0100
TZNAME:CET
DTSTART:20151025T010000
END:STANDARD
END:VTIMEZONE
BEGIN:VEVENT
DTSTART;VALUE=DATE:20150524
DTEND;VALUE=DATE:20150525
DTSTAMP:20260419T144149
CREATED:20160609T092049Z
LAST-MODIFIED:20191017T072329Z
UID:5246-1432425600-1432511999@www.granfondo.it
SUMMARY:Gran Fondo Corsa per Haiti
DESCRIPTION:
URL:https://www.granfondo.it/granfondo/gran-fondo-corsa-haiti-2/
LOCATION:Feletto Umberto\, Feletto Umberto                            \, Udine\, Italia
CATEGORIES:Bici Da Corsa,scaduto
ATTACH;FMTTYPE=image/png:https://www.granfondo.it/wp-content/uploads/2016/05/LOGO-GRANFONDO.png
ORGANIZER;CN="A.S.D.%20Chiarcosso%20-%20Help%20Haiti":MAILTO:info@corsaperhaiti.com
END:VEVENT
END:VCALENDAR