BEGIN:VCALENDAR
VERSION:2.0
PRODID:-//GRAN FONDO - Corse, gare e granfondo in Italia - ECPv4.9.14//NONSGML v1.0//EN
CALSCALE:GREGORIAN
METHOD:PUBLISH
X-WR-CALNAME:GRAN FONDO - Corse, gare e granfondo in Italia
X-ORIGINAL-URL:https://www.granfondo.it
X-WR-CALDESC:Eventi per GRAN FONDO - Corse, gare e granfondo in Italia
BEGIN:VTIMEZONE
TZID:Europe/Paris
BEGIN:DAYLIGHT
TZOFFSETFROM:+0100
TZOFFSETTO:+0200
TZNAME:CEST
DTSTART:20190331T010000
END:DAYLIGHT
BEGIN:STANDARD
TZOFFSETFROM:+0200
TZOFFSETTO:+0100
TZNAME:CET
DTSTART:20191027T010000
END:STANDARD
END:VTIMEZONE
BEGIN:VEVENT
DTSTART;VALUE=DATE:20190512
DTEND;VALUE=DATE:20190513
DTSTAMP:20260425T214606
CREATED:20181207T125558Z
LAST-MODIFIED:20191017T074017Z
UID:8481-1557619200-1557705599@www.granfondo.it
SUMMARY:Gran Fondo Colli Eolici
DESCRIPTION:
URL:https://www.granfondo.it/granfondo/gran-fondo-colli-eolici/
LOCATION:Mineo
CATEGORIES:Bici Da Corsa,scaduto
ATTACH;FMTTYPE=image/jpeg:https://www.granfondo.it/wp-content/uploads/2018/12/46351736_1965846063482076_5836021438913445888_n.jpg
ORGANIZER;CN="Gruppo%20Ciclistico%20Amatori%20Mineo":MAILTO:info@gcamineo.com
END:VEVENT
END:VCALENDAR