BEGIN:VCALENDAR
VERSION:2.0
PRODID:-//GRAN FONDO - Corse, gare e granfondo in Italia - ECPv4.9.14//NONSGML v1.0//EN
CALSCALE:GREGORIAN
METHOD:PUBLISH
X-WR-CALNAME:GRAN FONDO - Corse, gare e granfondo in Italia
X-ORIGINAL-URL:https://www.granfondo.it
X-WR-CALDESC:Eventi per GRAN FONDO - Corse, gare e granfondo in Italia
BEGIN:VTIMEZONE
TZID:Europe/Paris
BEGIN:DAYLIGHT
TZOFFSETFROM:+0100
TZOFFSETTO:+0200
TZNAME:CEST
DTSTART:20150329T010000
END:DAYLIGHT
BEGIN:STANDARD
TZOFFSETFROM:+0200
TZOFFSETTO:+0100
TZNAME:CET
DTSTART:20151025T010000
END:STANDARD
END:VTIMEZONE
BEGIN:VEVENT
DTSTART;VALUE=DATE:20150607
DTEND;VALUE=DATE:20150608
DTSTAMP:20260420T063121
CREATED:20160525T091610Z
LAST-MODIFIED:20191017T072312Z
UID:3524-1433635200-1433721599@www.granfondo.it
SUMMARY:Gran Fondo Città Di Rroccarainola
DESCRIPTION:
URL:https://www.granfondo.it/granfondo/gran-fondo-cittae-roccarainola/
LOCATION:Roccarainola\, Roccarainola\, Napoli\, Italia
CATEGORIES:Bici Da Corsa,Mountain Bike,scaduto
ATTACH;FMTTYPE=image/png:https://www.granfondo.it/wp-content/uploads/2016/05/LOGO-GRANFONDO.png
ORGANIZER;CN="ASD%20Ro.c.a.":MAILTO:gfroccarainola@gmail.com
END:VEVENT
END:VCALENDAR