BEGIN:VCALENDAR
VERSION:2.0
PRODID:-//GRAN FONDO - Corse, gare e granfondo in Italia - ECPv4.9.14//NONSGML v1.0//EN
CALSCALE:GREGORIAN
METHOD:PUBLISH
X-WR-CALNAME:GRAN FONDO - Corse, gare e granfondo in Italia
X-ORIGINAL-URL:https://www.granfondo.it
X-WR-CALDESC:Eventi per GRAN FONDO - Corse, gare e granfondo in Italia
BEGIN:VTIMEZONE
TZID:Europe/Paris
BEGIN:DAYLIGHT
TZOFFSETFROM:+0100
TZOFFSETTO:+0200
TZNAME:CEST
DTSTART:20190331T010000
END:DAYLIGHT
BEGIN:STANDARD
TZOFFSETFROM:+0200
TZOFFSETTO:+0100
TZNAME:CET
DTSTART:20191027T010000
END:STANDARD
END:VTIMEZONE
BEGIN:VEVENT
DTSTART;VALUE=DATE:20190303
DTEND;VALUE=DATE:20190304
DTSTAMP:20260426T032544
CREATED:20181113T131731Z
LAST-MODIFIED:20191017T073654Z
UID:8270-1551571200-1551657599@www.granfondo.it
SUMMARY:Gran Fondo Città di Savona
DESCRIPTION:
URL:https://www.granfondo.it/granfondo/gran-fondo-citta-di-savona/
LOCATION:Savona
CATEGORIES:Bici Da Corsa,scaduto
ATTACH;FMTTYPE=image/jpeg:https://www.granfondo.it/wp-content/uploads/2018/11/GF-Valle-del-Tevere-2016-partenza-Fiano.jpg
ORGANIZER;CN="A.S.D.%20G.S.%20Loabikers":MAILTO:loa1963@alice.it
END:VEVENT
END:VCALENDAR