BEGIN:VCALENDAR
VERSION:2.0
PRODID:-//GRAN FONDO - Corse, gare e granfondo in Italia - ECPv4.9.14//NONSGML v1.0//EN
CALSCALE:GREGORIAN
METHOD:PUBLISH
X-WR-CALNAME:GRAN FONDO - Corse, gare e granfondo in Italia
X-ORIGINAL-URL:https://www.granfondo.it
X-WR-CALDESC:Eventi per GRAN FONDO - Corse, gare e granfondo in Italia
BEGIN:VTIMEZONE
TZID:Europe/Paris
BEGIN:DAYLIGHT
TZOFFSETFROM:+0100
TZOFFSETTO:+0200
TZNAME:CEST
DTSTART:20190331T010000
END:DAYLIGHT
BEGIN:STANDARD
TZOFFSETFROM:+0200
TZOFFSETTO:+0100
TZNAME:CET
DTSTART:20191027T010000
END:STANDARD
END:VTIMEZONE
BEGIN:VEVENT
DTSTART;VALUE=DATE:20190428
DTEND;VALUE=DATE:20190429
DTSTAMP:20260419T202722
CREATED:20160609T071029Z
LAST-MODIFIED:20191017T074033Z
UID:5113-1556409600-1556495999@www.granfondo.it
SUMMARY:Gran Fondo Bramaterra
DESCRIPTION:
URL:https://www.granfondo.it/granfondo/gran-fondo-bramaterra/
LOCATION:Masserano\, Masserano                            \, Biella\, Italia
CATEGORIES:Mountain Bike,scaduto
ATTACH;FMTTYPE=image/jpeg:https://www.granfondo.it/wp-content/uploads/2017/07/44782049-val-di-sole-italy-22-august-2015-devinci-global-racing-team-rider-wallace-mark-in-action-during-the.jpg
END:VEVENT
END:VCALENDAR