BEGIN:VCALENDAR
VERSION:2.0
PRODID:-//GRAN FONDO - Corse, gare e granfondo in Italia - ECPv4.9.14//NONSGML v1.0//EN
CALSCALE:GREGORIAN
METHOD:PUBLISH
X-WR-CALNAME:GRAN FONDO - Corse, gare e granfondo in Italia
X-ORIGINAL-URL:https://www.granfondo.it
X-WR-CALDESC:Eventi per GRAN FONDO - Corse, gare e granfondo in Italia
BEGIN:VTIMEZONE
TZID:Europe/Paris
BEGIN:DAYLIGHT
TZOFFSETFROM:+0100
TZOFFSETTO:+0200
TZNAME:CEST
DTSTART:20260329T010000
END:DAYLIGHT
BEGIN:STANDARD
TZOFFSETFROM:+0200
TZOFFSETTO:+0100
TZNAME:CET
DTSTART:20261025T010000
END:STANDARD
END:VTIMEZONE
BEGIN:VEVENT
DTSTART;VALUE=DATE:20260501
DTEND;VALUE=DATE:20260502
DTSTAMP:20260425T115813
CREATED:20160609T064629Z
LAST-MODIFIED:20251101T135825Z
UID:5082-1777593600-1777679999@www.granfondo.it
SUMMARY:Gran Fondo Avesani Luca - Verona Cycling Marathon
DESCRIPTION:La gran fondo Luca Avesani nasce dalla voglia di ricordare la grande passione che Luca aveva per il ciclismo e per il territorio. La grande amicizia che lega il marchio Avesani nel voler esaltare il territorio veronese ha portato alla creazione del particolare percorso che unisce i territori circostanti\, in primis la Valpolicella\, famosa per il suo pregiato nettare chiamato vino. \n
URL:https://www.granfondo.it/granfondo/gran-fondo-avesani-luca-verona-cycling-marathon/
LOCATION:Verona\, Verona\, Verona\, Italia
CATEGORIES:Bici Da Corsa
ATTACH;FMTTYPE=image/jpeg:https://www.granfondo.it/wp-content/uploads/2016/05/image-6.jpg
END:VEVENT
END:VCALENDAR