BEGIN:VCALENDAR
VERSION:2.0
PRODID:-//GRAN FONDO - Corse, gare e granfondo in Italia - ECPv4.9.14//NONSGML v1.0//EN
CALSCALE:GREGORIAN
METHOD:PUBLISH
X-WR-CALNAME:GRAN FONDO - Corse, gare e granfondo in Italia
X-ORIGINAL-URL:https://www.granfondo.it
X-WR-CALDESC:Eventi per GRAN FONDO - Corse, gare e granfondo in Italia
BEGIN:VTIMEZONE
TZID:Europe/Paris
BEGIN:DAYLIGHT
TZOFFSETFROM:+0100
TZOFFSETTO:+0200
TZNAME:CEST
DTSTART:20190331T010000
END:DAYLIGHT
BEGIN:STANDARD
TZOFFSETFROM:+0200
TZOFFSETTO:+0100
TZNAME:CET
DTSTART:20191027T010000
END:STANDARD
END:VTIMEZONE
BEGIN:VEVENT
DTSTART;TZID=Europe/Paris:20190619T080000
DTEND;TZID=Europe/Paris:20190622T170000
DTSTAMP:20260422T090427
CREATED:20160609T061542Z
LAST-MODIFIED:20191017T073919Z
UID:5037-1560931200-1561222800@www.granfondo.it
SUMMARY:Glockner Man
DESCRIPTION:
URL:https://www.granfondo.it/granfondo/glockner-man/
LOCATION:Graz\, Graz                            
CATEGORIES:Bici Da Corsa,scaduto
ATTACH;FMTTYPE=image/jpeg:https://www.granfondo.it/wp-content/uploads/2016/06/Cattura-7.jpg
ORGANIZER;CN="Radsportklub%20Glockner%20Man":MAILTO:info@glocknerman.at
END:VEVENT
END:VCALENDAR