BEGIN:VCALENDAR
VERSION:2.0
PRODID:-//GRAN FONDO - Corse, gare e granfondo in Italia - ECPv4.9.14//NONSGML v1.0//EN
CALSCALE:GREGORIAN
METHOD:PUBLISH
X-WR-CALNAME:GRAN FONDO - Corse, gare e granfondo in Italia
X-ORIGINAL-URL:https://www.granfondo.it
X-WR-CALDESC:Eventi per GRAN FONDO - Corse, gare e granfondo in Italia
BEGIN:VTIMEZONE
TZID:Europe/Paris
BEGIN:DAYLIGHT
TZOFFSETFROM:+0100
TZOFFSETTO:+0200
TZNAME:CEST
DTSTART:20160327T010000
END:DAYLIGHT
BEGIN:STANDARD
TZOFFSETFROM:+0200
TZOFFSETTO:+0100
TZNAME:CET
DTSTART:20161030T010000
END:STANDARD
END:VTIMEZONE
BEGIN:VEVENT
DTSTART;VALUE=DATE:20160420
DTEND;VALUE=DATE:20160421
DTSTAMP:20260419T120101
CREATED:20160609T055330Z
LAST-MODIFIED:20191017T073248Z
UID:5006-1461110400-1461196799@www.granfondo.it
SUMMARY:Giro della Sardegna - Sesta Tappa - finale in salita
DESCRIPTION:
URL:https://www.granfondo.it/granfondo/giro-della-sardegna-sesta-tappa-finale-salita-2/
LOCATION:Budoni\, Budoni                            \, Olbia - Tempio\, Italia
CATEGORIES:Bici Da Corsa,scaduto
ATTACH;FMTTYPE=image/png:https://www.granfondo.it/wp-content/uploads/2016/05/LOGO-GRANFONDO.png
ORGANIZER;CN="Mare%20%26%20Monti":MAILTO:info@girosardegna.it
END:VEVENT
END:VCALENDAR