BEGIN:VCALENDAR
VERSION:2.0
PRODID:-//GRAN FONDO - Corse, gare e granfondo in Italia - ECPv4.9.14//NONSGML v1.0//EN
CALSCALE:GREGORIAN
METHOD:PUBLISH
X-WR-CALNAME:GRAN FONDO - Corse, gare e granfondo in Italia
X-ORIGINAL-URL:https://www.granfondo.it
X-WR-CALDESC:Eventi per GRAN FONDO - Corse, gare e granfondo in Italia
BEGIN:VTIMEZONE
TZID:Europe/Paris
BEGIN:DAYLIGHT
TZOFFSETFROM:+0100
TZOFFSETTO:+0200
TZNAME:CEST
DTSTART:20150329T010000
END:DAYLIGHT
BEGIN:STANDARD
TZOFFSETFROM:+0200
TZOFFSETTO:+0100
TZNAME:CET
DTSTART:20151025T010000
END:STANDARD
END:VTIMEZONE
BEGIN:VEVENT
DTSTART;VALUE=DATE:20151129
DTEND;VALUE=DATE:20151130
DTSTAMP:20260420T061334
CREATED:20160607T092500Z
LAST-MODIFIED:20191017T072526Z
UID:4971-1448755200-1448841599@www.granfondo.it
SUMMARY:Giro del Colle di San Michele
DESCRIPTION:
URL:https://www.granfondo.it/granfondo/giro-del-colle-san-michele/
LOCATION:Briga Novarese\, Briga Novarese                            \, Novara\, Italia
CATEGORIES:Mountain Bike,scaduto
ATTACH;FMTTYPE=image/png:https://www.granfondo.it/wp-content/uploads/2016/05/LOGO-GRANFONDO.png
ORGANIZER;CN="ASD%20Circuito%20Runnuing":MAILTO:circuitorunning@gmail.com
END:VEVENT
END:VCALENDAR