BEGIN:VCALENDAR
VERSION:2.0
PRODID:-//GRAN FONDO - Corse, gare e granfondo in Italia - ECPv4.9.14//NONSGML v1.0//EN
CALSCALE:GREGORIAN
METHOD:PUBLISH
X-WR-CALNAME:GRAN FONDO - Corse, gare e granfondo in Italia
X-ORIGINAL-URL:https://www.granfondo.it
X-WR-CALDESC:Eventi per GRAN FONDO - Corse, gare e granfondo in Italia
BEGIN:VTIMEZONE
TZID:Europe/Paris
BEGIN:DAYLIGHT
TZOFFSETFROM:+0100
TZOFFSETTO:+0200
TZNAME:CEST
DTSTART:20150329T010000
END:DAYLIGHT
BEGIN:STANDARD
TZOFFSETFROM:+0200
TZOFFSETTO:+0100
TZNAME:CET
DTSTART:20151025T010000
END:STANDARD
END:VTIMEZONE
BEGIN:VEVENT
DTSTART;VALUE=DATE:20151004
DTEND;VALUE=DATE:20151005
DTSTAMP:20260424T101637
CREATED:20160607T084157Z
LAST-MODIFIED:20191017T072540Z
UID:4932-1443916800-1444003199@www.granfondo.it
SUMMARY:GF Rocca Priora Memorial Armando Pucci
DESCRIPTION:
URL:https://www.granfondo.it/granfondo/gf-rocca-priora-memorial-armando-pucci/
LOCATION:Rocca Priora\, Rocca Priora                            \, Roma\, Italia
CATEGORIES:Mountain Bike,scaduto
ATTACH;FMTTYPE=image/png:https://www.granfondo.it/wp-content/uploads/2016/05/LOGO-GRANFONDO.png
ORGANIZER;CN="ASD%20Cicli%20Di%20Stefano":MAILTO:info@ciclidistefanoasd.it
END:VEVENT
END:VCALENDAR