BEGIN:VCALENDAR
VERSION:2.0
PRODID:-//GRAN FONDO - Corse, gare e granfondo in Italia - ECPv4.9.14//NONSGML v1.0//EN
CALSCALE:GREGORIAN
METHOD:PUBLISH
X-WR-CALNAME:GRAN FONDO - Corse, gare e granfondo in Italia
X-ORIGINAL-URL:https://www.granfondo.it
X-WR-CALDESC:Eventi per GRAN FONDO - Corse, gare e granfondo in Italia
BEGIN:VTIMEZONE
TZID:Europe/Paris
BEGIN:DAYLIGHT
TZOFFSETFROM:+0100
TZOFFSETTO:+0200
TZNAME:CEST
DTSTART:20190331T010000
END:DAYLIGHT
BEGIN:STANDARD
TZOFFSETFROM:+0200
TZOFFSETTO:+0100
TZNAME:CET
DTSTART:20191027T010000
END:STANDARD
END:VTIMEZONE
BEGIN:VEVENT
DTSTART;VALUE=DATE:20190609
DTEND;VALUE=DATE:20190610
DTSTAMP:20260423T071826
CREATED:20160526T064904Z
LAST-MODIFIED:20191017T073937Z
UID:3859-1560038400-1560124799@www.granfondo.it
SUMMARY:GF Gran Paradiso Bike
DESCRIPTION:
URL:https://www.granfondo.it/granfondo/gf-gran-paradiso-bike/
LOCATION:Cogne\, Cogne\, Valle D'Aosta\, Italia
CATEGORIES:Mountain Bike,scaduto
ATTACH;FMTTYPE=image/jpeg:https://www.granfondo.it/wp-content/uploads/2016/05/83213-04-03254GranParadisoBike.jpg
ORGANIZER;CN="ASD%20Sport%20in%20Paradiso":MAILTO:info@granparadisobike.it
END:VEVENT
END:VCALENDAR