BEGIN:VCALENDAR
VERSION:2.0
PRODID:-//GRAN FONDO - Corse, gare e granfondo in Italia - ECPv4.9.14//NONSGML v1.0//EN
CALSCALE:GREGORIAN
METHOD:PUBLISH
X-WR-CALNAME:GRAN FONDO - Corse, gare e granfondo in Italia
X-ORIGINAL-URL:https://www.granfondo.it
X-WR-CALDESC:Eventi per GRAN FONDO - Corse, gare e granfondo in Italia
BEGIN:VTIMEZONE
TZID:Europe/Paris
BEGIN:DAYLIGHT
TZOFFSETFROM:+0100
TZOFFSETTO:+0200
TZNAME:CEST
DTSTART:20160327T010000
END:DAYLIGHT
BEGIN:STANDARD
TZOFFSETFROM:+0200
TZOFFSETTO:+0100
TZNAME:CET
DTSTART:20161030T010000
END:STANDARD
END:VTIMEZONE
BEGIN:VEVENT
DTSTART;VALUE=DATE:20160313
DTEND;VALUE=DATE:20160314
DTSTAMP:20260419T161236
CREATED:20160607T080720Z
LAST-MODIFIED:20191017T072501Z
UID:4907-1457827200-1457913599@www.granfondo.it
SUMMARY:Fondo Villa Marini
DESCRIPTION:
URL:https://www.granfondo.it/granfondo/fondo-villa-marini-2/
LOCATION:Teramo\, Teramo\, Teramo\, Italia
CATEGORIES:Bici Da Corsa,scaduto
ATTACH;FMTTYPE=image/png:https://www.granfondo.it/wp-content/uploads/2016/05/LOGO-GRANFONDO.png
ORGANIZER;CN="%22ASD%09PRO%09BIKE%09TERAMO%22":MAILTO:alessiomaddes@gmail.com
END:VEVENT
END:VCALENDAR