BEGIN:VCALENDAR
VERSION:2.0
PRODID:-//GRAN FONDO - Corse, gare e granfondo in Italia - ECPv4.9.14//NONSGML v1.0//EN
CALSCALE:GREGORIAN
METHOD:PUBLISH
X-WR-CALNAME:GRAN FONDO - Corse, gare e granfondo in Italia
X-ORIGINAL-URL:https://www.granfondo.it
X-WR-CALDESC:Eventi per GRAN FONDO - Corse, gare e granfondo in Italia
BEGIN:VTIMEZONE
TZID:Europe/Paris
BEGIN:DAYLIGHT
TZOFFSETFROM:+0100
TZOFFSETTO:+0200
TZNAME:CEST
DTSTART:20150329T010000
END:DAYLIGHT
BEGIN:STANDARD
TZOFFSETFROM:+0200
TZOFFSETTO:+0100
TZNAME:CET
DTSTART:20151025T010000
END:STANDARD
END:VTIMEZONE
BEGIN:VEVENT
DTSTART;VALUE=DATE:20150912
DTEND;VALUE=DATE:20150913
DTSTAMP:20260419T234459
CREATED:20160607T061422Z
LAST-MODIFIED:20191017T072556Z
UID:4823-1442016000-1442102399@www.granfondo.it
SUMMARY:Endura Alpen Traum
DESCRIPTION:
URL:https://www.granfondo.it/granfondo/endura-alpen-traum-2/
LOCATION:Sonthofen – Landeck – Sulden\, Sonthofen - Landeck - Sulden
CATEGORIES:Bici Da Corsa,scaduto
ATTACH;FMTTYPE=image/jpeg:https://www.granfondo.it/wp-content/uploads/2016/06/EAT_2015.jpg
END:VEVENT
END:VCALENDAR