BEGIN:VCALENDAR
VERSION:2.0
PRODID:-//GRAN FONDO - Corse, gare e granfondo in Italia - ECPv4.9.14//NONSGML v1.0//EN
CALSCALE:GREGORIAN
METHOD:PUBLISH
X-WR-CALNAME:GRAN FONDO - Corse, gare e granfondo in Italia
X-ORIGINAL-URL:https://www.granfondo.it
X-WR-CALDESC:Eventi per GRAN FONDO - Corse, gare e granfondo in Italia
BEGIN:VTIMEZONE
TZID:Europe/Paris
BEGIN:DAYLIGHT
TZOFFSETFROM:+0100
TZOFFSETTO:+0200
TZNAME:CEST
DTSTART:20150329T010000
END:DAYLIGHT
BEGIN:STANDARD
TZOFFSETFROM:+0200
TZOFFSETTO:+0100
TZNAME:CET
DTSTART:20151025T010000
END:STANDARD
END:VTIMEZONE
BEGIN:VEVENT
DTSTART;VALUE=DATE:20150705
DTEND;VALUE=DATE:20150706
DTSTAMP:20260419T234035
CREATED:20160601T092354Z
LAST-MODIFIED:20191017T072250Z
UID:4778-1436054400-1436140799@www.granfondo.it
SUMMARY:Cronoscalata Calvi Risorta Rocchetta e Croce
DESCRIPTION:
URL:https://www.granfondo.it/granfondo/cronoscalata-calvi-risorta-rocchetta-croce-2/
LOCATION:Calvi Risorta\, Calvi Risorta                            \, Caserta\, Italia
CATEGORIES:Bici Da Corsa,scaduto
ATTACH;FMTTYPE=image/png:https://www.granfondo.it/wp-content/uploads/2016/05/LOGO-GRANFONDO.png
ORGANIZER;CN="A.S.D.%20Veloclub%20VentoContrario":MAILTO:veloclubventocontrario@gmail.com
END:VEVENT
END:VCALENDAR