BEGIN:VCALENDAR
VERSION:2.0
PRODID:-//GRAN FONDO - Corse, gare e granfondo in Italia - ECPv4.9.14//NONSGML v1.0//EN
CALSCALE:GREGORIAN
METHOD:PUBLISH
X-WR-CALNAME:GRAN FONDO - Corse, gare e granfondo in Italia
X-ORIGINAL-URL:https://www.granfondo.it
X-WR-CALDESC:Eventi per GRAN FONDO - Corse, gare e granfondo in Italia
BEGIN:VTIMEZONE
TZID:Europe/Paris
BEGIN:DAYLIGHT
TZOFFSETFROM:+0100
TZOFFSETTO:+0200
TZNAME:CEST
DTSTART:20160327T010000
END:DAYLIGHT
BEGIN:STANDARD
TZOFFSETFROM:+0200
TZOFFSETTO:+0100
TZNAME:CET
DTSTART:20161030T010000
END:STANDARD
END:VTIMEZONE
BEGIN:VEVENT
DTSTART;VALUE=DATE:20160221
DTEND;VALUE=DATE:20160222
DTSTAMP:20260419T155554
CREATED:20160601T091931Z
LAST-MODIFIED:20191017T072513Z
UID:4773-1456012800-1456099199@www.granfondo.it
SUMMARY:Cronoprologo Gran Tour Sicilia
DESCRIPTION:
URL:https://www.granfondo.it/granfondo/cronoprologo-gran-tour-sicilia/
LOCATION:Termini Imerese\, Termini Imerese                            \, Palermo\, Italia
CATEGORIES:Bici Da Corsa,scaduto
ATTACH;FMTTYPE=image/png:https://www.granfondo.it/wp-content/uploads/2016/05/LOGO-GRANFONDO.png
ORGANIZER;CN="Asd%20Bici%20%26%20Natura":MAILTO:asdbicienatura@gmail.com
END:VEVENT
END:VCALENDAR