BEGIN:VCALENDAR
VERSION:2.0
PRODID:-//GRAN FONDO - Corse, gare e granfondo in Italia - ECPv4.9.14//NONSGML v1.0//EN
CALSCALE:GREGORIAN
METHOD:PUBLISH
X-WR-CALNAME:GRAN FONDO - Corse, gare e granfondo in Italia
X-ORIGINAL-URL:https://www.granfondo.it
X-WR-CALDESC:Eventi per GRAN FONDO - Corse, gare e granfondo in Italia
BEGIN:VTIMEZONE
TZID:Europe/Paris
BEGIN:DAYLIGHT
TZOFFSETFROM:+0100
TZOFFSETTO:+0200
TZNAME:CEST
DTSTART:20160327T010000
END:DAYLIGHT
BEGIN:STANDARD
TZOFFSETFROM:+0200
TZOFFSETTO:+0100
TZNAME:CET
DTSTART:20161030T010000
END:STANDARD
END:VTIMEZONE
BEGIN:VEVENT
DTSTART;VALUE=DATE:20160717
DTEND;VALUE=DATE:20160718
DTSTAMP:20260419T144149
CREATED:20160524T063003Z
LAST-MODIFIED:20191017T073508Z
UID:3180-1468713600-1468799999@www.granfondo.it
SUMMARY:Craft Bike Transalp & Tappa 1
DESCRIPTION:
URL:https://www.granfondo.it/granfondo/craft-bike-transalp-tappa-1/
LOCATION:Austria
CATEGORIES:scaduto
ATTACH;FMTTYPE=image/png:https://www.granfondo.it/wp-content/uploads/2016/05/LOGO-GRANFONDO.png
ORGANIZER;CN="Ley%20Events%20GmbH":MAILTO:info@bike-transalp.de
END:VEVENT
END:VCALENDAR