BEGIN:VCALENDAR
VERSION:2.0
PRODID:-//GRAN FONDO - Corse, gare e granfondo in Italia - ECPv4.9.14//NONSGML v1.0//EN
CALSCALE:GREGORIAN
METHOD:PUBLISH
X-WR-CALNAME:GRAN FONDO - Corse, gare e granfondo in Italia
X-ORIGINAL-URL:https://www.granfondo.it
X-WR-CALDESC:Eventi per GRAN FONDO - Corse, gare e granfondo in Italia
BEGIN:VTIMEZONE
TZID:Europe/Paris
BEGIN:DAYLIGHT
TZOFFSETFROM:+0100
TZOFFSETTO:+0200
TZNAME:CEST
DTSTART:20150329T010000
END:DAYLIGHT
BEGIN:STANDARD
TZOFFSETFROM:+0200
TZOFFSETTO:+0100
TZNAME:CET
DTSTART:20151025T010000
END:STANDARD
END:VTIMEZONE
BEGIN:VEVENT
DTSTART;VALUE=DATE:20150920
DTEND;VALUE=DATE:20150921
DTSTAMP:20260419T215124
CREATED:20160601T084749Z
LAST-MODIFIED:20191017T072546Z
UID:4746-1442707200-1442793599@www.granfondo.it
SUMMARY:Columbus Cup Paullo -  2° Mem. Domenico Rizzotto
DESCRIPTION:
URL:https://www.granfondo.it/granfondo/columbus-cup-paullo-2a-mem-domenico-rizzotto/
LOCATION:Paullo\, Paullo                            \, Milano\, Italia
CATEGORIES:Mountain Bike,scaduto
ATTACH;FMTTYPE=image/png:https://www.granfondo.it/wp-content/uploads/2016/05/LOGO-GRANFONDO.png
END:VEVENT
END:VCALENDAR