BEGIN:VCALENDAR
VERSION:2.0
PRODID:-//GRAN FONDO - Corse, gare e granfondo in Italia - ECPv4.9.14//NONSGML v1.0//EN
CALSCALE:GREGORIAN
METHOD:PUBLISH
X-WR-CALNAME:GRAN FONDO - Corse, gare e granfondo in Italia
X-ORIGINAL-URL:https://www.granfondo.it
X-WR-CALDESC:Eventi per GRAN FONDO - Corse, gare e granfondo in Italia
BEGIN:VTIMEZONE
TZID:Europe/Paris
BEGIN:DAYLIGHT
TZOFFSETFROM:+0100
TZOFFSETTO:+0200
TZNAME:CEST
DTSTART:20160327T010000
END:DAYLIGHT
BEGIN:STANDARD
TZOFFSETFROM:+0200
TZOFFSETTO:+0100
TZNAME:CET
DTSTART:20161030T010000
END:STANDARD
END:VTIMEZONE
BEGIN:VEVENT
DTSTART;TZID=Europe/Paris:20160628T080000
DTEND;TZID=Europe/Paris:20160628T170000
DTSTAMP:20260420T002330
CREATED:20160523T150855Z
LAST-MODIFIED:20191017T073148Z
UID:3144-1467100800-1467133200@www.granfondo.it
SUMMARY:Cervino Cycling Marathon
DESCRIPTION:
URL:https://www.granfondo.it/granfondo/cervino-cycling-marathon-2/
LOCATION:Valtournenche\, Valtournenche\, Valle d'Aosta\, Italia
CATEGORIES:Bici Da Corsa,scaduto
ATTACH;FMTTYPE=image/png:https://www.granfondo.it/wp-content/uploads/2016/05/gf-cervinia-logo.png
ORGANIZER;CN="VDA%20SPORT%20E%20CULTURA%20ASD%20-%20AOSTA":MAILTO:ufficio@cervinocyclingmarathon.it
END:VEVENT
END:VCALENDAR