BEGIN:VCALENDAR
VERSION:2.0
PRODID:-//GRAN FONDO - Corse, gare e granfondo in Italia - ECPv4.9.14//NONSGML v1.0//EN
CALSCALE:GREGORIAN
METHOD:PUBLISH
X-WR-CALNAME:GRAN FONDO - Corse, gare e granfondo in Italia
X-ORIGINAL-URL:https://www.granfondo.it
X-WR-CALDESC:Eventi per GRAN FONDO - Corse, gare e granfondo in Italia
BEGIN:VTIMEZONE
TZID:Europe/Paris
BEGIN:DAYLIGHT
TZOFFSETFROM:+0100
TZOFFSETTO:+0200
TZNAME:CEST
DTSTART:20160327T010000
END:DAYLIGHT
BEGIN:STANDARD
TZOFFSETFROM:+0200
TZOFFSETTO:+0100
TZNAME:CET
DTSTART:20161030T010000
END:STANDARD
END:VTIMEZONE
BEGIN:VEVENT
DTSTART;VALUE=DATE:20160306
DTEND;VALUE=DATE:20160307
DTSTAMP:20260419T155853
CREATED:20160601T072142Z
LAST-MODIFIED:20191017T072503Z
UID:4682-1457222400-1457308799@www.granfondo.it
SUMMARY:Cape Argus Pick N& Pay Cycle Tour
DESCRIPTION:
URL:https://www.granfondo.it/granfondo/cape-argus-pick-npay-cycle-tour-2/
LOCATION:Cape Town\, Cape Town
CATEGORIES:Bici Da Corsa,scaduto
ATTACH;FMTTYPE=image/jpeg:https://www.granfondo.it/wp-content/uploads/2016/06/CT-LOGO-host-hori-colJPG.jpg
ORGANIZER;CN="Unnamed%20Organizer":MAILTO:info@cycletour.co.za
END:VEVENT
END:VCALENDAR