BEGIN:VCALENDAR
VERSION:2.0
PRODID:-//GRAN FONDO - Corse, gare e granfondo in Italia - ECPv4.9.14//NONSGML v1.0//EN
CALSCALE:GREGORIAN
METHOD:PUBLISH
X-WR-CALNAME:GRAN FONDO - Corse, gare e granfondo in Italia
X-ORIGINAL-URL:https://www.granfondo.it
X-WR-CALDESC:Eventi per GRAN FONDO - Corse, gare e granfondo in Italia
BEGIN:VTIMEZONE
TZID:Europe/Paris
BEGIN:DAYLIGHT
TZOFFSETFROM:+0100
TZOFFSETTO:+0200
TZNAME:CEST
DTSTART:20190331T010000
END:DAYLIGHT
BEGIN:STANDARD
TZOFFSETFROM:+0200
TZOFFSETTO:+0100
TZNAME:CET
DTSTART:20191027T010000
END:STANDARD
END:VTIMEZONE
BEGIN:VEVENT
DTSTART;VALUE=DATE:20190623
DTEND;VALUE=DATE:20190624
DTSTAMP:20260419T223811
CREATED:20190130T132809Z
LAST-MODIFIED:20191017T074618Z
UID:8821-1561248000-1561334399@www.granfondo.it
SUMMARY:Camagna Monferrato
DESCRIPTION:
URL:https://www.granfondo.it/granfondo/camagna-monferrato/
LOCATION:Camagna Monferrato
CATEGORIES:Gravel,scaduto
ATTACH;FMTTYPE=image/jpeg:https://www.granfondo.it/wp-content/uploads/2019/01/Cattura-28.jpg
ORGANIZER;CN="Bike%20Comedy%20Club":MAILTO:info@bikecomedy.it
END:VEVENT
END:VCALENDAR