BEGIN:VCALENDAR
VERSION:2.0
PRODID:-//GRAN FONDO - Corse, gare e granfondo in Italia - ECPv4.9.14//NONSGML v1.0//EN
CALSCALE:GREGORIAN
METHOD:PUBLISH
X-WR-CALNAME:GRAN FONDO - Corse, gare e granfondo in Italia
X-ORIGINAL-URL:https://www.granfondo.it
X-WR-CALDESC:Eventi per GRAN FONDO - Corse, gare e granfondo in Italia
BEGIN:VTIMEZONE
TZID:Europe/Paris
BEGIN:DAYLIGHT
TZOFFSETFROM:+0100
TZOFFSETTO:+0200
TZNAME:CEST
DTSTART:20150329T010000
END:DAYLIGHT
BEGIN:STANDARD
TZOFFSETFROM:+0200
TZOFFSETTO:+0100
TZNAME:CET
DTSTART:20151025T010000
END:STANDARD
END:VTIMEZONE
BEGIN:VEVENT
DTSTART;TZID=Europe/Paris:20150606T080000
DTEND;TZID=Europe/Paris:20150607T170000
DTSTAMP:20260420T044958
CREATED:20160601T063934Z
LAST-MODIFIED:20191017T072314Z
UID:4635-1433577600-1433696400@www.granfondo.it
SUMMARY:Asvà– à–sterreich Grand Prix
DESCRIPTION:
URL:https://www.granfondo.it/granfondo/asva-sterreich-grand-prix/
LOCATION:Windhaag bei Perg\, Windhaag bei Perg                             
CATEGORIES:Mountain Bike,scaduto
ATTACH;FMTTYPE=image/png:https://www.granfondo.it/wp-content/uploads/2016/05/LOGO-GRANFONDO.png
ORGANIZER;CN="Power%20Bike%20Team%20Windhaag":MAILTO:harald.wegerer@engel.at
END:VEVENT
END:VCALENDAR