BEGIN:VCALENDAR
VERSION:2.0
PRODID:-//GRAN FONDO - Corse, gare e granfondo in Italia - ECPv4.9.14//NONSGML v1.0//EN
CALSCALE:GREGORIAN
METHOD:PUBLISH
X-WR-CALNAME:GRAN FONDO - Corse, gare e granfondo in Italia
X-ORIGINAL-URL:https://www.granfondo.it
X-WR-CALDESC:Eventi per GRAN FONDO - Corse, gare e granfondo in Italia
BEGIN:VTIMEZONE
TZID:Europe/Paris
BEGIN:DAYLIGHT
TZOFFSETFROM:+0100
TZOFFSETTO:+0200
TZNAME:CEST
DTSTART:20150329T010000
END:DAYLIGHT
BEGIN:STANDARD
TZOFFSETFROM:+0200
TZOFFSETTO:+0100
TZNAME:CET
DTSTART:20151025T010000
END:STANDARD
END:VTIMEZONE
BEGIN:VEVENT
DTSTART;VALUE=DATE:20150705
DTEND;VALUE=DATE:20150706
DTSTAMP:20260419T234548
CREATED:20160601T063713Z
LAST-MODIFIED:20191017T072248Z
UID:4631-1436054400-1436140799@www.granfondo.it
SUMMARY:Astorica Gran Fondo Città  di Bassano
DESCRIPTION:
URL:https://www.granfondo.it/granfondo/astorica-gran-fondo-citta-bassano-2/
LOCATION:Bassano del Grappa\, Bassano del Grappa                            \, Vicenza\, Italia
CATEGORIES:Bici Da Corsa,scaduto
ATTACH;FMTTYPE=image/png:https://www.granfondo.it/wp-content/uploads/2016/05/LOGO-GRANFONDO.png
ORGANIZER;CN="Unnamed%20Organizer":MAILTO:info@astoricagsg.it
END:VEVENT
END:VCALENDAR