BEGIN:VCALENDAR
VERSION:2.0
PRODID:-//GRAN FONDO - Corse, gare e granfondo in Italia - ECPv4.9.14//NONSGML v1.0//EN
CALSCALE:GREGORIAN
METHOD:PUBLISH
X-WR-CALNAME:GRAN FONDO - Corse, gare e granfondo in Italia
X-ORIGINAL-URL:https://www.granfondo.it
X-WR-CALDESC:Eventi per GRAN FONDO - Corse, gare e granfondo in Italia
BEGIN:VTIMEZONE
TZID:Europe/Paris
BEGIN:DAYLIGHT
TZOFFSETFROM:+0100
TZOFFSETTO:+0200
TZNAME:CEST
DTSTART:20160327T010000
END:DAYLIGHT
BEGIN:STANDARD
TZOFFSETFROM:+0200
TZOFFSETTO:+0100
TZNAME:CET
DTSTART:20161030T010000
END:STANDARD
END:VTIMEZONE
BEGIN:VEVENT
DTSTART;VALUE=DATE:20160626
DTEND;VALUE=DATE:20160627
DTSTAMP:20260420T005621
CREATED:20160523T120512Z
LAST-MODIFIED:20191017T073149Z
UID:3013-1466899200-1466985599@www.granfondo.it
SUMMARY:Alb-Extrem Radmarathon
DESCRIPTION:
URL:https://www.granfondo.it/granfondo/alb-extrem-radmarathon/
LOCATION:Ottenbach\, Ottenbach
CATEGORIES:Bici Da Corsa,scaduto
ATTACH;FMTTYPE=image/jpeg:https://www.granfondo.it/wp-content/uploads/2016/05/f40d9479-d4d5-4bc5-80f4-15c7bee1f895_l.jpg
ORGANIZER;CN="MRSC%20Ottenbach":MAILTO:stefan.nussbaumer@t-online.de
END:VEVENT
END:VCALENDAR