BEGIN:VCALENDAR
VERSION:2.0
PRODID:-//GRAN FONDO - Corse, gare e granfondo in Italia - ECPv4.9.14//NONSGML v1.0//EN
CALSCALE:GREGORIAN
METHOD:PUBLISH
X-WR-CALNAME:GRAN FONDO - Corse, gare e granfondo in Italia
X-ORIGINAL-URL:https://www.granfondo.it
X-WR-CALDESC:Eventi per GRAN FONDO - Corse, gare e granfondo in Italia
BEGIN:VTIMEZONE
TZID:Europe/Paris
BEGIN:DAYLIGHT
TZOFFSETFROM:+0100
TZOFFSETTO:+0200
TZNAME:CEST
DTSTART:20190331T010000
END:DAYLIGHT
BEGIN:STANDARD
TZOFFSETFROM:+0200
TZOFFSETTO:+0100
TZNAME:CET
DTSTART:20191027T010000
END:STANDARD
END:VTIMEZONE
BEGIN:VEVENT
DTSTART;VALUE=DATE:20190609
DTEND;VALUE=DATE:20190610
DTSTAMP:20260422T222633
CREATED:20190111T110041Z
LAST-MODIFIED:20191017T073943Z
UID:8630-1560038400-1560124799@www.granfondo.it
SUMMARY:7°  GRAN FONDO VALERIO AGNOLI
DESCRIPTION:Gara inserita nel circuito Fantabici \n
URL:https://www.granfondo.it/granfondo/7-gran-fondo-valerio-agnoli/
LOCATION:Fiuggi\, Fiuggi                            \, Frosinone\, Italia
CATEGORIES:Bici Da Corsa,scaduto
ORGANIZER;CN="ASD%20VALERIO%20AGNOLI":MAILTO:gfvalerioagnoli@gmail.com
END:VEVENT
END:VCALENDAR