BEGIN:VCALENDAR
VERSION:2.0
PRODID:-//GRAN FONDO - Corse, gare e granfondo in Italia - ECPv4.9.14//NONSGML v1.0//EN
CALSCALE:GREGORIAN
METHOD:PUBLISH
X-WR-CALNAME:GRAN FONDO - Corse, gare e granfondo in Italia
X-ORIGINAL-URL:https://www.granfondo.it
X-WR-CALDESC:Eventi per GRAN FONDO - Corse, gare e granfondo in Italia
BEGIN:VTIMEZONE
TZID:Europe/Paris
BEGIN:DAYLIGHT
TZOFFSETFROM:+0100
TZOFFSETTO:+0200
TZNAME:CEST
DTSTART:20150329T010000
END:DAYLIGHT
BEGIN:STANDARD
TZOFFSETFROM:+0200
TZOFFSETTO:+0100
TZNAME:CET
DTSTART:20151025T010000
END:STANDARD
END:VTIMEZONE
BEGIN:VEVENT
DTSTART;VALUE=DATE:20150920
DTEND;VALUE=DATE:20150921
DTSTAMP:20260419T234319
CREATED:20150513T135514Z
LAST-MODIFIED:20191017T072544Z
UID:2233-1442707200-1442793599@www.granfondo.it
SUMMARY:6xAndrea
DESCRIPTION:
URL:https://www.granfondo.it/granfondo/6xandrea/
CATEGORIES:Bici Da Corsa,scaduto
ATTACH;FMTTYPE=image/png:https://www.granfondo.it/wp-content/uploads/2015/05/6xAndrea23.png
END:VEVENT
END:VCALENDAR