BEGIN:VCALENDAR
VERSION:2.0
PRODID:-//GRAN FONDO - Corse, gare e granfondo in Italia - ECPv4.9.14//NONSGML v1.0//EN
CALSCALE:GREGORIAN
METHOD:PUBLISH
X-WR-CALNAME:GRAN FONDO - Corse, gare e granfondo in Italia
X-ORIGINAL-URL:https://www.granfondo.it
X-WR-CALDESC:Eventi per GRAN FONDO - Corse, gare e granfondo in Italia
BEGIN:VTIMEZONE
TZID:Europe/Paris
BEGIN:DAYLIGHT
TZOFFSETFROM:+0100
TZOFFSETTO:+0200
TZNAME:CEST
DTSTART:20160327T010000
END:DAYLIGHT
BEGIN:STANDARD
TZOFFSETFROM:+0200
TZOFFSETTO:+0100
TZNAME:CET
DTSTART:20161030T010000
END:STANDARD
END:VTIMEZONE
BEGIN:VEVENT
DTSTART;TZID=Europe/Paris:20160709T080000
DTEND;TZID=Europe/Paris:20160710T170000
DTSTAMP:20260419T123507
CREATED:20160523T070134Z
LAST-MODIFIED:20191017T073515Z
UID:2958-1468051200-1468170000@www.granfondo.it
SUMMARY:24 Ore MTB del Drago & Memorial Italo Nardi
DESCRIPTION:
URL:https://www.granfondo.it/granfondo/24-ore-mtb-del-drago-memorial-italo-nardi/
LOCATION:Stroncone\, Stroncone\, Terni\, Italia
CATEGORIES:Mountain Bike,scaduto
ATTACH;FMTTYPE=image/png:https://www.granfondo.it/wp-content/uploads/2016/05/LOGO-GRANFONDO.png
ORGANIZER;CN="Drago%20Bike%20Team%20Ruota%20Libera":MAILTO:emilio24h@yahoo.it
END:VEVENT
END:VCALENDAR