BEGIN:VCALENDAR
VERSION:2.0
PRODID:-//GRAN FONDO - Corse, gare e granfondo in Italia - ECPv4.9.14//NONSGML v1.0//EN
CALSCALE:GREGORIAN
METHOD:PUBLISH
X-WR-CALNAME:GRAN FONDO - Corse, gare e granfondo in Italia
X-ORIGINAL-URL:https://www.granfondo.it
X-WR-CALDESC:Eventi per GRAN FONDO - Corse, gare e granfondo in Italia
BEGIN:VTIMEZONE
TZID:Europe/Paris
BEGIN:DAYLIGHT
TZOFFSETFROM:+0100
TZOFFSETTO:+0200
TZNAME:CEST
DTSTART:20260329T010000
END:DAYLIGHT
BEGIN:STANDARD
TZOFFSETFROM:+0200
TZOFFSETTO:+0100
TZNAME:CET
DTSTART:20261025T010000
END:STANDARD
END:VTIMEZONE
BEGIN:VEVENT
DTSTART;VALUE=DATE:20260830
DTEND;VALUE=DATE:20260831
DTSTAMP:20260426T021531
CREATED:20160530T085047Z
LAST-MODIFIED:20251101T143250Z
UID:4153-1788048000-1788134399@www.granfondo.it
SUMMARY:Oetztaler Radmarathon
DESCRIPTION:
URL:https://www.granfondo.it/granfondo/oetztaler-radmarathon/
LOCATION:Soelden\, Soelden
CATEGORIES:Bici Da Corsa
ATTACH;FMTTYPE=image/jpeg:https://www.granfondo.it/wp-content/uploads/2016/05/Cb_0vFwXIAQZR5h.jpg
ORGANIZER;CN="Unnamed%20Organizer":MAILTO:radmarathon@oetztal.com
END:VEVENT
BEGIN:VEVENT
DTSTART;VALUE=DATE:20260830
DTEND;VALUE=DATE:20260831
DTSTAMP:20260426T021531
CREATED:20160531T085358Z
LAST-MODIFIED:20251101T150514Z
UID:4305-1788048000-1788134399@www.granfondo.it
SUMMARY:StraccaBike
DESCRIPTION:
URL:https://www.granfondo.it/granfondo/straccabike/
LOCATION:Pratovecchio\, Pratovecchio\, Arezzo\, Italia
CATEGORIES:Mountain Bike
ATTACH;FMTTYPE=image/jpeg:https://www.granfondo.it/wp-content/uploads/2017/07/bg_home7.jpg
ORGANIZER;CN="ASD%20GS%20AVIS%20Pratovecchio":MAILTO:info@straccabike.it
END:VEVENT
BEGIN:VEVENT
DTSTART;VALUE=DATE:20260830
DTEND;VALUE=DATE:20260831
DTSTAMP:20260426T021531
CREATED:20241125T142630Z
LAST-MODIFIED:20251214T141042Z
UID:44869-1788048000-1788134399@www.granfondo.it
SUMMARY:Monte Terminillo Cycling - Granfondo Città di Leonessa
DESCRIPTION:
URL:https://www.granfondo.it/granfondo/monte-terminillo-cycling-granfondo-citta-di-leonessa/
LOCATION:Leonessa
CATEGORIES:Bici Da Corsa
ATTACH;FMTTYPE=image/png:https://www.granfondo.it/wp-content/uploads/2024/11/Cattura-2.png
END:VEVENT
END:VCALENDAR