BEGIN:VCALENDAR
VERSION:2.0
PRODID:-//GRAN FONDO - Corse, gare e granfondo in Italia - ECPv4.9.14//NONSGML v1.0//EN
CALSCALE:GREGORIAN
METHOD:PUBLISH
X-WR-CALNAME:GRAN FONDO - Corse, gare e granfondo in Italia
X-ORIGINAL-URL:https://www.granfondo.it
X-WR-CALDESC:Eventi per GRAN FONDO - Corse, gare e granfondo in Italia
BEGIN:VTIMEZONE
TZID:Europe/Paris
BEGIN:DAYLIGHT
TZOFFSETFROM:+0100
TZOFFSETTO:+0200
TZNAME:CEST
DTSTART:20260329T010000
END:DAYLIGHT
BEGIN:STANDARD
TZOFFSETFROM:+0200
TZOFFSETTO:+0100
TZNAME:CET
DTSTART:20261025T010000
END:STANDARD
END:VTIMEZONE
BEGIN:VEVENT
DTSTART;VALUE=DATE:20260823
DTEND;VALUE=DATE:20260824
DTSTAMP:20260425T142540
CREATED:20160525T150415Z
LAST-MODIFIED:20251101T143331Z
UID:3751-1787443200-1787529599@www.granfondo.it
SUMMARY:Gran Fondo San Gottardo
DESCRIPTION:
URL:https://www.granfondo.it/granfondo/gran-fondo-san-gottardo/
LOCATION:Ambri\, Ambra
CATEGORIES:Bici Da Corsa
ATTACH;FMTTYPE=image/jpeg:https://www.granfondo.it/wp-content/uploads/2016/05/img1.jpg
ORGANIZER;CN="Unnamed%20Organizer":MAILTO:info@granfondosangottardo.com
END:VEVENT
BEGIN:VEVENT
DTSTART;VALUE=DATE:20260823
DTEND;VALUE=DATE:20260824
DTSTAMP:20260425T142540
CREATED:20230228T140657Z
LAST-MODIFIED:20260106T125140Z
UID:34237-1787443200-1787529599@www.granfondo.it
SUMMARY:Granfondo Dolomiti Friulane
DESCRIPTION:
URL:https://www.granfondo.it/granfondo/granfondo-dolomiti-friulane/
LOCATION:Claut
CATEGORIES:Mountain Bike
ATTACH;FMTTYPE=image/jpeg:https://www.granfondo.it/wp-content/uploads/2018/11/granfondo-mtb-il-carpegna-mi-basta-2016_266_720.jpg
ORGANIZER;CN="ASD%20Polisportiva%20Claut-%20ASD%20Cellina%20Bike":MAILTO:bike.pol.Claut@gmail.com
END:VEVENT
BEGIN:VEVENT
DTSTART;VALUE=DATE:20260823
DTEND;VALUE=DATE:20260824
DTSTAMP:20260425T142540
CREATED:20240112T142326Z
LAST-MODIFIED:20251101T150609Z
UID:39737-1787443200-1787529599@www.granfondo.it
SUMMARY:Stragölem
DESCRIPTION:
URL:https://www.granfondo.it/granfondo/stragolem/
LOCATION:Zone
CATEGORIES:Mountain Bike
ATTACH;FMTTYPE=image/jpeg:https://www.granfondo.it/wp-content/uploads/2023/12/cyclist-6591830_1280.jpg
END:VEVENT
END:VCALENDAR