BEGIN:VCALENDAR
VERSION:2.0
PRODID:-//GRAN FONDO - Corse, gare e granfondo in Italia - ECPv4.9.14//NONSGML v1.0//EN
CALSCALE:GREGORIAN
METHOD:PUBLISH
X-WR-CALNAME:GRAN FONDO - Corse, gare e granfondo in Italia
X-ORIGINAL-URL:https://www.granfondo.it
X-WR-CALDESC:Eventi per GRAN FONDO - Corse, gare e granfondo in Italia
BEGIN:VTIMEZONE
TZID:Europe/Paris
BEGIN:DAYLIGHT
TZOFFSETFROM:+0100
TZOFFSETTO:+0200
TZNAME:CEST
DTSTART:20260329T010000
END:DAYLIGHT
BEGIN:STANDARD
TZOFFSETFROM:+0200
TZOFFSETTO:+0100
TZNAME:CET
DTSTART:20261025T010000
END:STANDARD
BEGIN:DAYLIGHT
TZOFFSETFROM:+0100
TZOFFSETTO:+0200
TZNAME:CEST
DTSTART:20270328T010000
END:DAYLIGHT
BEGIN:STANDARD
TZOFFSETFROM:+0200
TZOFFSETTO:+0100
TZNAME:CET
DTSTART:20271031T010000
END:STANDARD
END:VTIMEZONE
BEGIN:VEVENT
DTSTART;VALUE=DATE:20260322
DTEND;VALUE=DATE:20270315
DTSTAMP:20260424T033405
CREATED:20160613T085401Z
LAST-MODIFIED:20260105T183600Z
UID:6069-1774137600-1805068799@www.granfondo.it
SUMMARY:Marathon Parco dei Monti Ausoni e del Lago di Fondi
DESCRIPTION:
URL:https://www.granfondo.it/granfondo/marathon-parco-dei-monti-ausoni-del-lago-fondi/
LOCATION:Fondi\, Fondi                            \, Latina\, Italia
CATEGORIES:Mountain Bike
ATTACH;FMTTYPE=image/jpeg:https://www.granfondo.it/wp-content/uploads/2017/07/paez.sila_.epic_.jpg
END:VEVENT
BEGIN:VEVENT
DTSTART;VALUE=DATE:20260802
DTEND;VALUE=DATE:20260803
DTSTAMP:20260424T033405
CREATED:20160523T130828Z
LAST-MODIFIED:20251101T142726Z
UID:3060-1785628800-1785715199@www.granfondo.it
SUMMARY:Arlberg Giro
DESCRIPTION:
URL:https://www.granfondo.it/granfondo/arlberg-giro/
LOCATION:St. Anton/Arlberg\, St. Anton/Arlberg \, Latina
CATEGORIES:Bici Da Corsa
ATTACH;FMTTYPE=image/jpeg:https://www.granfondo.it/wp-content/uploads/2016/05/E7D_1083.jpg
ORGANIZER;CN="Associazione%20Turistica":MAILTO:info@stantonamarlberg.com
END:VEVENT
BEGIN:VEVENT
DTSTART;VALUE=DATE:20260802
DTEND;VALUE=DATE:20260803
DTSTAMP:20260424T033405
CREATED:20170623T113033Z
LAST-MODIFIED:20251101T142803Z
UID:6997-1785628800-1785715199@www.granfondo.it
SUMMARY:Bluewater International Granfondo
DESCRIPTION:
URL:https://www.granfondo.it/granfondo/bluewater-international-granfondo/
LOCATION:Sarnia\,  \, Latina
CATEGORIES:Bici Da Corsa
ATTACH;FMTTYPE=image/jpeg:https://www.granfondo.it/wp-content/uploads/2017/06/mondsee_radmarathon-1.jpg
END:VEVENT
END:VCALENDAR