BEGIN:VCALENDAR
VERSION:2.0
PRODID:-//GRAN FONDO - Corse, gare e granfondo in Italia - ECPv4.9.14//NONSGML v1.0//EN
CALSCALE:GREGORIAN
METHOD:PUBLISH
X-WR-CALNAME:GRAN FONDO - Corse, gare e granfondo in Italia
X-ORIGINAL-URL:https://www.granfondo.it
X-WR-CALDESC:Eventi per GRAN FONDO - Corse, gare e granfondo in Italia
BEGIN:VTIMEZONE
TZID:Europe/Paris
BEGIN:DAYLIGHT
TZOFFSETFROM:+0100
TZOFFSETTO:+0200
TZNAME:CEST
DTSTART:20260329T010000
END:DAYLIGHT
BEGIN:STANDARD
TZOFFSETFROM:+0200
TZOFFSETTO:+0100
TZNAME:CET
DTSTART:20261025T010000
END:STANDARD
BEGIN:DAYLIGHT
TZOFFSETFROM:+0100
TZOFFSETTO:+0200
TZNAME:CEST
DTSTART:20270328T010000
END:DAYLIGHT
BEGIN:STANDARD
TZOFFSETFROM:+0200
TZOFFSETTO:+0100
TZNAME:CET
DTSTART:20271031T010000
END:STANDARD
END:VTIMEZONE
BEGIN:VEVENT
DTSTART;VALUE=DATE:20260322
DTEND;VALUE=DATE:20270315
DTSTAMP:20260423T143212
CREATED:20160613T085401Z
LAST-MODIFIED:20260105T183600Z
UID:6069-1774137600-1805068799@www.granfondo.it
SUMMARY:Marathon Parco dei Monti Ausoni e del Lago di Fondi
DESCRIPTION:
URL:https://www.granfondo.it/granfondo/marathon-parco-dei-monti-ausoni-del-lago-fondi/
LOCATION:Fondi\, Fondi                            \, Latina\, Italia
CATEGORIES:Mountain Bike
ATTACH;FMTTYPE=image/jpeg:https://www.granfondo.it/wp-content/uploads/2017/07/paez.sila_.epic_.jpg
END:VEVENT
BEGIN:VEVENT
DTSTART;VALUE=DATE:20260726
DTEND;VALUE=DATE:20260727
DTSTAMP:20260423T143212
CREATED:20160523T130004Z
LAST-MODIFIED:20251101T142844Z
UID:3050-1785024000-1785110399@www.granfondo.it
SUMMARY:Arber Radmarathon
DESCRIPTION:
URL:https://www.granfondo.it/granfondo/arber-radmarathon/
LOCATION:Regensburg\, Regensburg\, Latina
CATEGORIES:Bici Da Corsa
ATTACH;FMTTYPE=image/jpeg:https://www.granfondo.it/wp-content/uploads/2017/06/PARTENZA-10.jpg
ORGANIZER;CN="Veloclub%20Ratisbona%20e.V.":MAILTO: info@arberradmarathon.de
END:VEVENT
BEGIN:VEVENT
DTSTART;VALUE=DATE:20260726
DTEND;VALUE=DATE:20260727
DTSTAMP:20260423T143212
CREATED:20160526T054512Z
LAST-MODIFIED:20251101T150654Z
UID:3785-1785024000-1785110399@www.granfondo.it
SUMMARY:Gran fondo Troi Trek mtb
DESCRIPTION:
URL:https://www.granfondo.it/granfondo/gran-fondo-troi-trek-mtb/
LOCATION:Polcemigo\, Polcemigo\, Pordenone\, Italia
CATEGORIES:Mountain Bike
ATTACH;FMTTYPE=image/jpeg:https://www.granfondo.it/wp-content/uploads/2016/05/Cattura-16-e1636378703630.jpg
ORGANIZER;CN="Asd%20Ciclo%20Team%20Gorgazzo":MAILTO:info@troitrek.it
END:VEVENT
END:VCALENDAR