BEGIN:VCALENDAR
VERSION:2.0
PRODID:-//GRAN FONDO - Corse, gare e granfondo in Italia - ECPv4.9.14//NONSGML v1.0//EN
CALSCALE:GREGORIAN
METHOD:PUBLISH
X-WR-CALNAME:GRAN FONDO - Corse, gare e granfondo in Italia
X-ORIGINAL-URL:https://www.granfondo.it
X-WR-CALDESC:Eventi per GRAN FONDO - Corse, gare e granfondo in Italia
BEGIN:VTIMEZONE
TZID:Europe/Paris
BEGIN:DAYLIGHT
TZOFFSETFROM:+0100
TZOFFSETTO:+0200
TZNAME:CEST
DTSTART:20260329T010000
END:DAYLIGHT
BEGIN:STANDARD
TZOFFSETFROM:+0200
TZOFFSETTO:+0100
TZNAME:CET
DTSTART:20261025T010000
END:STANDARD
BEGIN:DAYLIGHT
TZOFFSETFROM:+0100
TZOFFSETTO:+0200
TZNAME:CEST
DTSTART:20270328T010000
END:DAYLIGHT
BEGIN:STANDARD
TZOFFSETFROM:+0200
TZOFFSETTO:+0100
TZNAME:CET
DTSTART:20271031T010000
END:STANDARD
END:VTIMEZONE
BEGIN:VEVENT
DTSTART;VALUE=DATE:20260322
DTEND;VALUE=DATE:20270315
DTSTAMP:20260421T151356
CREATED:20160613T085401Z
LAST-MODIFIED:20260105T183600Z
UID:6069-1774137600-1805068799@www.granfondo.it
SUMMARY:Marathon Parco dei Monti Ausoni e del Lago di Fondi
DESCRIPTION:
URL:https://www.granfondo.it/granfondo/marathon-parco-dei-monti-ausoni-del-lago-fondi/
LOCATION:Fondi\, Fondi                            \, Latina\, Italia
CATEGORIES:Mountain Bike
ATTACH;FMTTYPE=image/jpeg:https://www.granfondo.it/wp-content/uploads/2017/07/paez.sila_.epic_.jpg
END:VEVENT
BEGIN:VEVENT
DTSTART;VALUE=DATE:20260628
DTEND;VALUE=DATE:20260629
DTSTAMP:20260421T151356
CREATED:20150513T135529Z
LAST-MODIFIED:20251101T142127Z
UID:2331-1782604800-1782691199@www.granfondo.it
SUMMARY:Giro del Gran Sasso d'Italia
DESCRIPTION:
URL:https://www.granfondo.it/granfondo/giro-del-gran-sasso-ditalia/
LOCATION:Fonte Cerreto di Assergi\, Latina
CATEGORIES:Bici Da Corsa
ATTACH;FMTTYPE=image/jpeg:https://www.granfondo.it/wp-content/uploads/2016/05/image-6.jpg
ORGANIZER;CN="Bike%20Marathon%20Gran%20Sasso%20d%27Italia%20ASD":MAILTO:info@bikemarathongransasso.com
END:VEVENT
BEGIN:VEVENT
DTSTART;VALUE=DATE:20260628
DTEND;VALUE=DATE:20260629
DTSTAMP:20260421T151356
CREATED:20160524T072330Z
LAST-MODIFIED:20251101T142207Z
UID:3236-1782604800-1782691199@www.granfondo.it
SUMMARY:Dreilaendergiro
DESCRIPTION:
URL:https://www.granfondo.it/granfondo/dreilaendergiro/
LOCATION:Nauders\, Nauders\, Latina
CATEGORIES:Bici Da Corsa
ATTACH;FMTTYPE=image/jpeg:https://www.granfondo.it/wp-content/uploads/2016/05/photo-2.jpg
ORGANIZER;CN="OK%20Dreil%C3%A4ndergiro":MAILTO:service@dreilaendergiro.at
END:VEVENT
BEGIN:VEVENT
DTSTART;VALUE=DATE:20260628
DTEND;VALUE=DATE:20260629
DTSTAMP:20260421T151356
CREATED:20170620T113106Z
LAST-MODIFIED:20251213T142512Z
UID:6940-1782604800-1782691199@www.granfondo.it
SUMMARY:Gran Fondo La Fausto Coppi
DESCRIPTION:
URL:https://www.granfondo.it/granfondo/gran-fondo-la-fausto-coppi/
LOCATION:Cuneo\, Cuneo\, Cuneo\, Italia
CATEGORIES:Bici Da Corsa
ATTACH;FMTTYPE=image/jpeg:https://www.granfondo.it/wp-content/uploads/2024/04/P1210899-scaled.jpg
END:VEVENT
BEGIN:VEVENT
DTSTART;VALUE=DATE:20260628
DTEND;VALUE=DATE:20260629
DTSTAMP:20260421T151356
CREATED:20171128T121851Z
LAST-MODIFIED:20260105T175237Z
UID:7398-1782604800-1782691199@www.granfondo.it
SUMMARY:Look Marmotte Granfondo Alpes
DESCRIPTION:
URL:https://www.granfondo.it/granfondo/look-marmotte-granfondo-alpes/
LOCATION:Bourg d Oisans\, Latina
CATEGORIES:Bici Da Corsa
ATTACH;FMTTYPE=image/jpeg:https://www.granfondo.it/wp-content/uploads/2017/11/Cattura-4-e1704722383723.jpg
ORGANIZER;CN="Look%20Marmotte":MAILTO: info@sportcommunication.com
END:VEVENT
BEGIN:VEVENT
DTSTART;VALUE=DATE:20260628
DTEND;VALUE=DATE:20260629
DTSTAMP:20260421T151356
CREATED:20180206T173948Z
LAST-MODIFIED:20260105T192113Z
UID:7813-1782604800-1782691199@www.granfondo.it
SUMMARY:POLLINO MARATHON
DESCRIPTION:
URL:https://www.granfondo.it/granfondo/pollino-marathon/
LOCATION:Terranova di Pollino\, Terranova di Pollino\, Potenza\, Italia
CATEGORIES:Mountain Bike
ATTACH;FMTTYPE=image/png:https://www.granfondo.it/wp-content/uploads/2018/02/LOGO-POLLINO-MARATHON.png
END:VEVENT
BEGIN:VEVENT
DTSTART;VALUE=DATE:20260628
DTEND;VALUE=DATE:20260629
DTSTAMP:20260421T151356
CREATED:20230228T135722Z
LAST-MODIFIED:20260105T192029Z
UID:34231-1782604800-1782691199@www.granfondo.it
SUMMARY:Duezeronove
DESCRIPTION:
URL:https://www.granfondo.it/granfondo/duezeronove/
LOCATION:Arrone\, Latina
CATEGORIES:Mountain Bike
ATTACH;FMTTYPE=image/jpeg:https://www.granfondo.it/wp-content/uploads/2018/11/granfondo-mtb-il-carpegna-mi-basta-2016_266_720.jpg
ORGANIZER;CN="Triono%20Racing%20SC%20Centrobici":MAILTO:info@duezeronove.it
END:VEVENT
BEGIN:VEVENT
DTSTART;VALUE=DATE:20260628
DTEND;VALUE=DATE:20260629
DTSTAMP:20260421T151356
CREATED:20231019T070648Z
LAST-MODIFIED:20251022T170400Z
UID:38479-1782604800-1782691199@www.granfondo.it
SUMMARY:Granfondo dei Laghi della Garfagnana
DESCRIPTION:\n\nGranfondo dei Laghi della Garfagnana\n\n\n\n\n\n\n\n\n2026 – III° Edizione \n\n\n\n\n\n\n\n\n\n\n\n\n\n\n\n\n\n\nCome è facile intuire l’evento deve il suo nome ai laghi della località Garfagnana che potrete ammirare durante la manifestazione:\n\nlago di Villa (comune di Villa Collemandina)\nlago di Vicaglia (comune di Sillano)\nlago di Gramolazzo (Comune di Minucciano)\nlago di Vagli (comune di Vagli di Sotto)\nlago di Isola Santa (comune di Careggine)\n\nL’evento sarà proposto con il format di Gara Ciclistica competitiva con tratti di percorso “neutralizzati”. Saranno previsti 2 percorsi e 3 cronometrate.\n\nLe prime 2 cronometrate saranno a comune tra il percorso Lungo ed il percorso Medio mentre la 3 cronometrata sarà affrontata solo dai partecipanti sul percorso Lungo.\n\n\n
URL:https://www.granfondo.it/granfondo/granfondo-dei-laghi-della-garfagnana/
LOCATION:Castelnuovo di Garfagnana\, Latina
CATEGORIES:Bici Da Corsa,Homepage,Vetrina
ATTACH;FMTTYPE=image/jpeg:https://www.granfondo.it/wp-content/uploads/2023/10/Partenza105-copia.jpg
ORGANIZER;CN="ASD%20Pedale%20Pesciatino":MAILTO:info@pedalepesciatino.it
END:VEVENT
BEGIN:VEVENT
DTSTART;VALUE=DATE:20260628
DTEND;VALUE=DATE:20260629
DTSTAMP:20260421T151356
CREATED:20240109T142731Z
LAST-MODIFIED:20251213T142603Z
UID:39672-1782604800-1782691199@www.granfondo.it
SUMMARY:Granfondo dei Borghi - Castelnuovo di Farfa
DESCRIPTION:
URL:https://www.granfondo.it/granfondo/granfondo-dei-borghi-castelnuovo-di-farfa/
LOCATION:Castelnuovo di Farfa\, Latina
CATEGORIES:Bici Da Corsa
ATTACH;FMTTYPE=image/jpeg:https://www.granfondo.it/wp-content/uploads/2023/12/cyclist-6591830_1280.jpg
END:VEVENT
BEGIN:VEVENT
DTSTART;VALUE=DATE:20260628
DTEND;VALUE=DATE:20260629
DTSTAMP:20260421T151356
CREATED:20260105T192643Z
LAST-MODIFIED:20260105T192643Z
UID:60774-1782604800-1782691199@www.granfondo.it
SUMMARY:La Via dei Saraceni
DESCRIPTION:
URL:https://www.granfondo.it/granfondo/la-via-dei-saraceni/
LOCATION:Sauze d’Oulx\, Latina
CATEGORIES:Mountain Bike
ATTACH;FMTTYPE=image/jpeg:https://www.granfondo.it/wp-content/uploads/2018/11/granfondo-mtb-il-carpegna-mi-basta-2016_266_720.jpg
END:VEVENT
BEGIN:VEVENT
DTSTART;VALUE=DATE:20260628
DTEND;VALUE=DATE:20260629
DTSTAMP:20260421T151356
CREATED:20260105T192920Z
LAST-MODIFIED:20260105T192920Z
UID:60778-1782604800-1782691199@www.granfondo.it
SUMMARY:Gallio Marathon
DESCRIPTION:
URL:https://www.granfondo.it/granfondo/gallio-marathon/
LOCATION:Gallio\, Gallio                            \, Vicenza\, Italia
CATEGORIES:Mountain Bike
ATTACH;FMTTYPE=image/jpeg:https://www.granfondo.it/wp-content/uploads/2016/06/Mtb_Garda_Marathon_1.20_del_19.08.19-foto1-e1609336849327.jpg
ORGANIZER;CN="ASD%20Atheste%20Bike%20e%20Team%20Asiago%207C":MAILTO:info@galliomarathon.it
END:VEVENT
END:VCALENDAR