BEGIN:VCALENDAR
VERSION:2.0
PRODID:-//GRAN FONDO - Corse, gare e granfondo in Italia - ECPv4.9.14//NONSGML v1.0//EN
CALSCALE:GREGORIAN
METHOD:PUBLISH
X-WR-CALNAME:GRAN FONDO - Corse, gare e granfondo in Italia
X-ORIGINAL-URL:https://www.granfondo.it
X-WR-CALDESC:Eventi per GRAN FONDO - Corse, gare e granfondo in Italia
BEGIN:VTIMEZONE
TZID:Europe/Paris
BEGIN:DAYLIGHT
TZOFFSETFROM:+0100
TZOFFSETTO:+0200
TZNAME:CEST
DTSTART:20260329T010000
END:DAYLIGHT
BEGIN:STANDARD
TZOFFSETFROM:+0200
TZOFFSETTO:+0100
TZNAME:CET
DTSTART:20261025T010000
END:STANDARD
BEGIN:DAYLIGHT
TZOFFSETFROM:+0100
TZOFFSETTO:+0200
TZNAME:CEST
DTSTART:20270328T010000
END:DAYLIGHT
BEGIN:STANDARD
TZOFFSETFROM:+0200
TZOFFSETTO:+0100
TZNAME:CET
DTSTART:20271031T010000
END:STANDARD
END:VTIMEZONE
BEGIN:VEVENT
DTSTART;VALUE=DATE:20260322
DTEND;VALUE=DATE:20270315
DTSTAMP:20260421T165142
CREATED:20160613T085401Z
LAST-MODIFIED:20260105T183600Z
UID:6069-1774137600-1805068799@www.granfondo.it
SUMMARY:Marathon Parco dei Monti Ausoni e del Lago di Fondi
DESCRIPTION:
URL:https://www.granfondo.it/granfondo/marathon-parco-dei-monti-ausoni-del-lago-fondi/
LOCATION:Fondi\, Fondi                            \, Latina\, Italia
CATEGORIES:Mountain Bike
ATTACH;FMTTYPE=image/jpeg:https://www.granfondo.it/wp-content/uploads/2017/07/paez.sila_.epic_.jpg
END:VEVENT
BEGIN:VEVENT
DTSTART;VALUE=DATE:20260627
DTEND;VALUE=DATE:20260628
DTSTAMP:20260421T165142
CREATED:20160524T072000Z
LAST-MODIFIED:20251101T150313Z
UID:3233-1782518400-1782604799@www.granfondo.it
SUMMARY:Dolomitica Brenta Bike
DESCRIPTION:
URL:https://www.granfondo.it/granfondo/dolomitica-brenta-bike/
LOCATION:Pinzolo\, Latina\, Italia
CATEGORIES:Mountain Bike
ATTACH;FMTTYPE=image/jpeg:https://www.granfondo.it/wp-content/uploads/2016/05/DolomiticaBrentaBike.jpg
END:VEVENT
BEGIN:VEVENT
DTSTART;VALUE=DATE:20260627
DTEND;VALUE=DATE:20260628
DTSTAMP:20260421T165142
CREATED:20251101T151901Z
LAST-MODIFIED:20251101T151901Z
UID:58944-1782518400-1782604799@www.granfondo.it
SUMMARY:Granfondo  Livigno  Alé
DESCRIPTION:
URL:https://www.granfondo.it/granfondo/granfondo-livigno-ale/
LOCATION:Livigno\, Livigno\, Sondrio\, Italia
CATEGORIES:Bici Da Corsa
ATTACH;FMTTYPE=image/jpeg:https://www.granfondo.it/wp-content/uploads/2025/11/granfondo_panorama_verticale.jpg
ORGANIZER;CN="ASD%20ALE%27":MAILTO: info@alelamerckx.com
END:VEVENT
END:VCALENDAR