BEGIN:VCALENDAR
VERSION:2.0
PRODID:-//GRAN FONDO - Corse, gare e granfondo in Italia - ECPv4.9.14//NONSGML v1.0//EN
CALSCALE:GREGORIAN
METHOD:PUBLISH
X-WR-CALNAME:GRAN FONDO - Corse, gare e granfondo in Italia
X-ORIGINAL-URL:https://www.granfondo.it
X-WR-CALDESC:Eventi per GRAN FONDO - Corse, gare e granfondo in Italia
BEGIN:VTIMEZONE
TZID:Europe/Paris
BEGIN:DAYLIGHT
TZOFFSETFROM:+0100
TZOFFSETTO:+0200
TZNAME:CEST
DTSTART:20260329T010000
END:DAYLIGHT
BEGIN:STANDARD
TZOFFSETFROM:+0200
TZOFFSETTO:+0100
TZNAME:CET
DTSTART:20261025T010000
END:STANDARD
BEGIN:DAYLIGHT
TZOFFSETFROM:+0100
TZOFFSETTO:+0200
TZNAME:CEST
DTSTART:20270328T010000
END:DAYLIGHT
BEGIN:STANDARD
TZOFFSETFROM:+0200
TZOFFSETTO:+0100
TZNAME:CET
DTSTART:20271031T010000
END:STANDARD
END:VTIMEZONE
BEGIN:VEVENT
DTSTART;VALUE=DATE:20260322
DTEND;VALUE=DATE:20270315
DTSTAMP:20260422T030015
CREATED:20160613T085401Z
LAST-MODIFIED:20260105T183600Z
UID:6069-1774137600-1805068799@www.granfondo.it
SUMMARY:Marathon Parco dei Monti Ausoni e del Lago di Fondi
DESCRIPTION:
URL:https://www.granfondo.it/granfondo/marathon-parco-dei-monti-ausoni-del-lago-fondi/
LOCATION:Fondi\, Fondi                            \, Latina\, Italia
CATEGORIES:Mountain Bike
ATTACH;FMTTYPE=image/jpeg:https://www.granfondo.it/wp-content/uploads/2017/07/paez.sila_.epic_.jpg
END:VEVENT
BEGIN:VEVENT
DTSTART;VALUE=DATE:20260614
DTEND;VALUE=DATE:20260615
DTSTAMP:20260422T030015
CREATED:20160524T071536Z
LAST-MODIFIED:20251101T141235Z
UID:3230-1781395200-1781481599@www.granfondo.it
SUMMARY:Dolomiten Radrundfahrt
DESCRIPTION:
URL:https://www.granfondo.it/granfondo/dolomiten-radrundfahrt/
LOCATION:Lienz\, Lienz\, Latina
CATEGORIES:Bici Da Corsa
ATTACH;FMTTYPE=image/jpeg:https://www.granfondo.it/wp-content/uploads/2017/06/gf-per-home-page-2.jpg
ORGANIZER;CN="LRC%20Lienzer%20Dolomiten":MAILTO: info@dolomitensport-lienz.com
END:VEVENT
BEGIN:VEVENT
DTSTART;VALUE=DATE:20260614
DTEND;VALUE=DATE:20260615
DTSTAMP:20260422T030015
CREATED:20160531T081838Z
LAST-MODIFIED:20251101T141202Z
UID:4268-1781395200-1781481599@www.granfondo.it
SUMMARY:Santis Classic
DESCRIPTION:
URL:https://www.granfondo.it/granfondo/santis-classic/
LOCATION:Weinfelden\, Weinfelden\, Latina
CATEGORIES:Bici Da Corsa
ATTACH;FMTTYPE=image/jpeg:https://www.granfondo.it/wp-content/uploads/2017/06/Penserjoch-Sarntal-Suedtirol_02.jpg
END:VEVENT
BEGIN:VEVENT
DTSTART;VALUE=DATE:20260614
DTEND;VALUE=DATE:20260615
DTSTAMP:20260422T030015
CREATED:20181105T132403Z
LAST-MODIFIED:20251101T145631Z
UID:8236-1781395200-1781481599@www.granfondo.it
SUMMARY:Granfondo MTB "Il Carpegna mi basta!"
DESCRIPTION:
URL:https://www.granfondo.it/granfondo/granfondo-mtb-il-carpegna-mi-basta/
LOCATION:Carpegna\, Carpegna                            \, Pesaro e Urbino\, Italia
CATEGORIES:Mountain Bike
ATTACH;FMTTYPE=image/jpeg:https://www.granfondo.it/wp-content/uploads/2018/11/granfondo-mtb-il-carpegna-mi-basta-2016_266_720.jpg
ORGANIZER;CN="Granfondo%20Il%20Carpegna%20mi%20basta":MAILTO:info@ilcarpegnamibasta.it
END:VEVENT
BEGIN:VEVENT
DTSTART;VALUE=DATE:20260614
DTEND;VALUE=DATE:20260615
DTSTAMP:20260422T030015
CREATED:20200517T080038Z
LAST-MODIFIED:20260105T191618Z
UID:3987-1781395200-1781481599@www.granfondo.it
SUMMARY:Mainarde Bike Race
DESCRIPTION:
URL:https://www.granfondo.it/granfondo/mainarde-bike-race/
LOCATION:Filignano\, Filignano\, Isernia\, Italia
CATEGORIES:Mountain Bike
ATTACH;FMTTYPE=image/jpeg:https://www.granfondo.it/wp-content/uploads/2023/12/cyclist-6591830_1280.jpg
END:VEVENT
BEGIN:VEVENT
DTSTART;VALUE=DATE:20260614
DTEND;VALUE=DATE:20260615
DTSTAMP:20260422T030015
CREATED:20210123T140827Z
LAST-MODIFIED:20251213T141944Z
UID:11194-1781395200-1781481599@www.granfondo.it
SUMMARY:La BERGHEM#molamia
DESCRIPTION:
URL:https://www.granfondo.it/granfondo/la-berghemmolamia/
LOCATION:Bergamo\, Latina
CATEGORIES:Bici Da Corsa
ATTACH;FMTTYPE=image/jpeg:https://www.granfondo.it/wp-content/uploads/2021/01/Cattura-13-e1732544945388.jpg
ORGANIZER;CN="OTC%20srl":MAILTO:support@otc-srl.it
END:VEVENT
BEGIN:VEVENT
DTSTART;VALUE=DATE:20260614
DTEND;VALUE=DATE:20260615
DTSTAMP:20260422T030015
CREATED:20230228T134415Z
LAST-MODIFIED:20251101T145544Z
UID:34225-1781395200-1781481599@www.granfondo.it
SUMMARY:Via del Marmo
DESCRIPTION:
URL:https://www.granfondo.it/granfondo/via-del-marmo/
LOCATION:Gavardo\, Gavardo\, Brescia\, Italia
CATEGORIES:Mountain Bike
ATTACH;FMTTYPE=image/jpeg:https://www.granfondo.it/wp-content/uploads/2018/11/granfondo-mtb-il-carpegna-mi-basta-2016_266_720.jpg
END:VEVENT
BEGIN:VEVENT
DTSTART;VALUE=DATE:20260614
DTEND;VALUE=DATE:20260615
DTSTAMP:20260422T030015
CREATED:20260105T174307Z
LAST-MODIFIED:20260105T174307Z
UID:60735-1781395200-1781481599@www.granfondo.it
SUMMARY:Granfondo di Santa Fiora
DESCRIPTION:
URL:https://www.granfondo.it/granfondo/granfondo-di-santa-fiora/
LOCATION:Santa Fiora\, Latina
CATEGORIES:Bici Da Corsa
ATTACH;FMTTYPE=image/jpeg:https://www.granfondo.it/wp-content/uploads/2015/05/Cattura-3.jpg
END:VEVENT
END:VCALENDAR