BEGIN:VCALENDAR
VERSION:2.0
PRODID:-//GRAN FONDO - Corse, gare e granfondo in Italia - ECPv4.9.14//NONSGML v1.0//EN
CALSCALE:GREGORIAN
METHOD:PUBLISH
X-WR-CALNAME:GRAN FONDO - Corse, gare e granfondo in Italia
X-ORIGINAL-URL:https://www.granfondo.it
X-WR-CALDESC:Eventi per GRAN FONDO - Corse, gare e granfondo in Italia
BEGIN:VTIMEZONE
TZID:Europe/Paris
BEGIN:DAYLIGHT
TZOFFSETFROM:+0100
TZOFFSETTO:+0200
TZNAME:CEST
DTSTART:20260329T010000
END:DAYLIGHT
BEGIN:STANDARD
TZOFFSETFROM:+0200
TZOFFSETTO:+0100
TZNAME:CET
DTSTART:20261025T010000
END:STANDARD
BEGIN:DAYLIGHT
TZOFFSETFROM:+0100
TZOFFSETTO:+0200
TZNAME:CEST
DTSTART:20270328T010000
END:DAYLIGHT
BEGIN:STANDARD
TZOFFSETFROM:+0200
TZOFFSETTO:+0100
TZNAME:CET
DTSTART:20271031T010000
END:STANDARD
END:VTIMEZONE
BEGIN:VEVENT
DTSTART;VALUE=DATE:20260322
DTEND;VALUE=DATE:20270315
DTSTAMP:20260421T151214
CREATED:20160613T085401Z
LAST-MODIFIED:20260105T183600Z
UID:6069-1774137600-1805068799@www.granfondo.it
SUMMARY:Marathon Parco dei Monti Ausoni e del Lago di Fondi
DESCRIPTION:
URL:https://www.granfondo.it/granfondo/marathon-parco-dei-monti-ausoni-del-lago-fondi/
LOCATION:Fondi\, Fondi                            \, Latina\, Italia
CATEGORIES:Mountain Bike
ATTACH;FMTTYPE=image/jpeg:https://www.granfondo.it/wp-content/uploads/2017/07/paez.sila_.epic_.jpg
END:VEVENT
BEGIN:VEVENT
DTSTART;VALUE=DATE:20260607
DTEND;VALUE=DATE:20260608
DTSTAMP:20260421T151214
CREATED:20160525T115839Z
LAST-MODIFIED:20251213T142028Z
UID:3566-1780790400-1780876799@www.granfondo.it
SUMMARY:Gran Fondo dei Monti Sibillini
DESCRIPTION:
URL:https://www.granfondo.it/granfondo/gran-fondo-dei-monti-sibillini/
LOCATION:Caldarola\, Cladarola\, Macerata\, Italia
CATEGORIES:Bici Da Corsa
ATTACH;FMTTYPE=image/jpeg:https://www.granfondo.it/wp-content/uploads/2016/06/IMG_9770.jpg
ORGANIZER;CN="ASD%20SIBILLINI":MAILTO:info@granfondodeisibillini.it
END:VEVENT
BEGIN:VEVENT
DTSTART;VALUE=DATE:20260607
DTEND;VALUE=DATE:20260608
DTSTAMP:20260421T151214
CREATED:20160525T123940Z
LAST-MODIFIED:20251213T142127Z
UID:3607-1780790400-1780876799@www.granfondo.it
SUMMARY:Gran Fondo del Vulture
DESCRIPTION:
URL:https://www.granfondo.it/granfondo/gran-fondo-del-vulture/
LOCATION:Rionero in Vulture\, Rionero in Vulture\, Potenza\, Italia
CATEGORIES:Bici Da Corsa
ATTACH;FMTTYPE=image/jpeg:https://www.granfondo.it/wp-content/uploads/2016/05/Cattura-48.jpg
END:VEVENT
BEGIN:VEVENT
DTSTART;VALUE=DATE:20260607
DTEND;VALUE=DATE:20260608
DTSTAMP:20260421T151214
CREATED:20160525T152423Z
LAST-MODIFIED:20251101T140936Z
UID:3773-1780790400-1780876799@www.granfondo.it
SUMMARY:Gran Fondo Stelvio Santini
DESCRIPTION:
URL:https://www.granfondo.it/granfondo/gran-fondo-stelvio-santini/
LOCATION:Bormio\, Bormio\, Sondrio\, Italia
CATEGORIES:Bici Da Corsa
ATTACH;FMTTYPE=image/jpeg:https://www.granfondo.it/wp-content/uploads/2016/05/Cattura-38.jpg
ORGANIZER;CN="Granfondo%20Stelvio%20Santini":MAILTO:	info@usbormiese.com
END:VEVENT
BEGIN:VEVENT
DTSTART;VALUE=DATE:20260607
DTEND;VALUE=DATE:20260608
DTSTAMP:20260421T151214
CREATED:20160526T090349Z
LAST-MODIFIED:20260105T191439Z
UID:3990-1780790400-1780876799@www.granfondo.it
SUMMARY:Marathon degli Aragonesi
DESCRIPTION:
URL:https://www.granfondo.it/granfondo/marathon-degli-aragonesi/
LOCATION:Castovillari\, Castovillari\, Cosenza\, Italia
CATEGORIES:Mountain Bike
ATTACH;FMTTYPE=image/jpeg:https://www.granfondo.it/wp-content/uploads/2017/07/3.jpg
END:VEVENT
BEGIN:VEVENT
DTSTART;VALUE=DATE:20260607
DTEND;VALUE=DATE:20260608
DTSTAMP:20260421T151214
CREATED:20180201T122213Z
LAST-MODIFIED:20251101T145821Z
UID:7745-1780790400-1780876799@www.granfondo.it
SUMMARY:100 KM. dei Forti
DESCRIPTION:
URL:https://www.granfondo.it/granfondo/100-km-dei-forti/
LOCATION:Lavarone\, Lavarone\, Trento\, Italia
CATEGORIES:Mountain Bike
ATTACH;FMTTYPE=image/jpeg:https://www.granfondo.it/wp-content/uploads/2018/02/Cattura-8.jpg
ORGANIZER;CN="S.C.%20Millegrobbe%20Lavarone":MAILTO:info@millegrobbe.it
END:VEVENT
BEGIN:VEVENT
DTSTART;VALUE=DATE:20260607
DTEND;VALUE=DATE:20260608
DTSTAMP:20260421T151214
CREATED:20180205T120929Z
LAST-MODIFIED:20260105T191527Z
UID:7762-1780790400-1780876799@www.granfondo.it
SUMMARY:Granfondo Terre del Sangiovese
DESCRIPTION:
URL:https://www.granfondo.it/granfondo/granfondo-terre-del-sangiovese/
LOCATION:Bertinoro\, Bertinoro                            \, Forla - Cesena\, Italia
CATEGORIES:Mountain Bike
ATTACH;FMTTYPE=image/jpeg:https://www.granfondo.it/wp-content/uploads/2018/02/cin.jpg
END:VEVENT
BEGIN:VEVENT
DTSTART;VALUE=DATE:20260607
DTEND;VALUE=DATE:20260608
DTSTAMP:20260421T151214
CREATED:20180219T084044Z
LAST-MODIFIED:20251101T141107Z
UID:7957-1780790400-1780876799@www.granfondo.it
SUMMARY:Top Dolomites.
DESCRIPTION:
URL:https://www.granfondo.it/granfondo/top-dolomites-granfondo-madonna-campiglio-north-lake-garda/
LOCATION:Madonna di Campiglio\, Madonna di Campiglio\, Trento\, Italia
CATEGORIES:Bici Da Corsa
ATTACH;FMTTYPE=image/jpeg:https://www.granfondo.it/wp-content/uploads/2018/02/Cattura-14.jpg
END:VEVENT
BEGIN:VEVENT
DTSTART;VALUE=DATE:20260607
DTEND;VALUE=DATE:20260608
DTSTAMP:20260421T151214
CREATED:20180228T083154Z
LAST-MODIFIED:20260105T173738Z
UID:8045-1780790400-1780876799@www.granfondo.it
SUMMARY:Schwarzwald Super! Rennradmarathon
DESCRIPTION:
URL:https://www.granfondo.it/granfondo/schwarzwald-super-rennradmarathon/
LOCATION:Münstertal / Germania\, Abt-Columban-Weg 4\, 79244 Münstertal / Schwarzwald\, Latina\, 79244
CATEGORIES:Bici Da Corsa
ATTACH;FMTTYPE=image/jpeg:https://www.granfondo.it/wp-content/uploads/2018/02/startheader.jpg
ORGANIZER;CN="Schwarzwald%20Super%21%20e.V.":MAILTO:kontakt@schwarzwald-super.de
END:VEVENT
BEGIN:VEVENT
DTSTART;VALUE=DATE:20260607
DTEND;VALUE=DATE:20260608
DTSTAMP:20260421T151214
CREATED:20220128T143413Z
LAST-MODIFIED:20260105T174433Z
UID:14191-1780790400-1780876799@www.granfondo.it
SUMMARY:Trofeo La Resga
DESCRIPTION:
URL:https://www.granfondo.it/granfondo/trofeo-la-resga/
LOCATION:Prato Sesia\, Latina
CATEGORIES:Bici Da Corsa
ATTACH;FMTTYPE=image/jpeg:https://www.granfondo.it/wp-content/uploads/2020/01/diapositiva2.jpg
ORGANIZER;CN="Alpi%20SuperPrestige%20Tricolore":MAILTO:acsiciclismonovco.iscrizioni@gmail.com
END:VEVENT
BEGIN:VEVENT
DTSTART;VALUE=DATE:20260607
DTEND;VALUE=DATE:20260608
DTSTAMP:20260421T151214
CREATED:20221012T125111Z
LAST-MODIFIED:20251022T165820Z
UID:27824-1780790400-1780876799@www.granfondo.it
SUMMARY:Granfondo del Vento
DESCRIPTION:Il 7 giugno 2026\, Bagni di Lucca si prepara ad accogliere una grande giornata di pedali\, sudore e passione. La partenza\, alle ore nove\, dalla suggestiva cornice delle nostre colline\, dà il via a due emozionanti percorsi: il Medio e l’Extreme\, pronti a sfidare atleti e appassionati. \n  \nIl percorso Medio\, di circa 80 km\, attraversa paesaggi incantati con un dislivello complessivo di 2.230 metri\, e include due tratti cronometrati: Vergemoli – Calomini e Orrido di Botri – Montefegatesi.Il percorso Extreme\, più impegnativo\, di 127 km e con un dislivello di 3.200 metri\, presenta tre tratti cronometrati: Vergemoli – Calomini\, San Pellegrino in Alpe e Palleggio – San Cassiano. \n  \nPreparati a vivere un’esperienza unica\, tra panorami mozzafiato e sfide intense\, al fianco di tanti appassionati che condivideranno con te questa grande avventura. Non perdere questa occasione di celebrare lo sport e la bellezza della nostra terra! \n
URL:https://www.granfondo.it/granfondo/granfondo-del-vento/
LOCATION:Bagni di lucca\, Bagni di Lucca\, Lucca\, Italia
CATEGORIES:Bici Da Corsa,Homepage,Vetrina
ATTACH;FMTTYPE=image/jpeg:https://www.granfondo.it/wp-content/uploads/2022/10/GRANFONDO-DEL-VENTO-GARA-foto-Lia_Baccelli-175.jpg
ORGANIZER;CN="ASD%20Pedale%20Pesciatino":MAILTO:info@pedalepesciatino.it
END:VEVENT
BEGIN:VEVENT
DTSTART;VALUE=DATE:20260607
DTEND;VALUE=DATE:20260608
DTSTAMP:20260421T151214
CREATED:20260105T174845Z
LAST-MODIFIED:20260105T174845Z
UID:60738-1780790400-1780876799@www.granfondo.it
SUMMARY:Granfondo del Gigante Bianco
DESCRIPTION:
URL:https://www.granfondo.it/granfondo/granfondo-del-gigante-bianco/
LOCATION:Sinalunga\, Latina
CATEGORIES:Bici Da Corsa
ATTACH;FMTTYPE=image/jpeg:https://www.granfondo.it/wp-content/uploads/2019/04/Granfondo-Cassino.jpg
END:VEVENT
END:VCALENDAR