BEGIN:VCALENDAR
VERSION:2.0
PRODID:-//GRAN FONDO - Corse, gare e granfondo in Italia - ECPv4.9.14//NONSGML v1.0//EN
CALSCALE:GREGORIAN
METHOD:PUBLISH
X-WR-CALNAME:GRAN FONDO - Corse, gare e granfondo in Italia
X-ORIGINAL-URL:https://www.granfondo.it
X-WR-CALDESC:Eventi per GRAN FONDO - Corse, gare e granfondo in Italia
BEGIN:VTIMEZONE
TZID:Europe/Paris
BEGIN:DAYLIGHT
TZOFFSETFROM:+0100
TZOFFSETTO:+0200
TZNAME:CEST
DTSTART:20260329T010000
END:DAYLIGHT
BEGIN:STANDARD
TZOFFSETFROM:+0200
TZOFFSETTO:+0100
TZNAME:CET
DTSTART:20261025T010000
END:STANDARD
BEGIN:DAYLIGHT
TZOFFSETFROM:+0100
TZOFFSETTO:+0200
TZNAME:CEST
DTSTART:20270328T010000
END:DAYLIGHT
BEGIN:STANDARD
TZOFFSETFROM:+0200
TZOFFSETTO:+0100
TZNAME:CET
DTSTART:20271031T010000
END:STANDARD
END:VTIMEZONE
BEGIN:VEVENT
DTSTART;VALUE=DATE:20260322
DTEND;VALUE=DATE:20270315
DTSTAMP:20260422T154156
CREATED:20160613T085401Z
LAST-MODIFIED:20260105T183600Z
UID:6069-1774137600-1805068799@www.granfondo.it
SUMMARY:Marathon Parco dei Monti Ausoni e del Lago di Fondi
DESCRIPTION:
URL:https://www.granfondo.it/granfondo/marathon-parco-dei-monti-ausoni-del-lago-fondi/
LOCATION:Fondi\, Fondi                            \, Latina\, Italia
CATEGORIES:Mountain Bike
ATTACH;FMTTYPE=image/jpeg:https://www.granfondo.it/wp-content/uploads/2017/07/paez.sila_.epic_.jpg
END:VEVENT
BEGIN:VEVENT
DTSTART;VALUE=DATE:20260524
DTEND;VALUE=DATE:20260525
DTSTAMP:20260422T154156
CREATED:20160607T091920Z
LAST-MODIFIED:20260105T173229Z
UID:4960-1779580800-1779667199@www.granfondo.it
SUMMARY:Giro dei due Bacini
DESCRIPTION:
URL:https://www.granfondo.it/granfondo/giro-dei-due-bacini/
LOCATION:Prato\, Prato\, Prato\, Italia
CATEGORIES:Bici Da Corsa
ATTACH;FMTTYPE=image/jpeg:https://www.granfondo.it/wp-content/uploads/2017/06/133MORZINE-6.jpg
ORGANIZER;CN="ASD%20Ciclistica%20Viaccia":MAILTO:ciclisticaviaccia@ciclisticaviaccia.it
END:VEVENT
BEGIN:VEVENT
DTSTART;VALUE=DATE:20260524
DTEND;VALUE=DATE:20260525
DTSTAMP:20260422T154156
CREATED:20160613T130308Z
LAST-MODIFIED:20251101T140708Z
UID:6224-1779580800-1779667199@www.granfondo.it
SUMMARY:Nove Colli
DESCRIPTION:
URL:https://www.granfondo.it/granfondo/nove-colli/
LOCATION:Cesenatico\, Cesenatico                            \, Forla - Cesena\, Italia
CATEGORIES:Bici Da Corsa
ATTACH;FMTTYPE=image/jpeg:https://www.granfondo.it/wp-content/uploads/2016/06/1-6.jpg
END:VEVENT
BEGIN:VEVENT
DTSTART;VALUE=DATE:20260524
DTEND;VALUE=DATE:20260525
DTSTAMP:20260422T154156
CREATED:20181210T131322Z
LAST-MODIFIED:20251101T145228Z
UID:8493-1779580800-1779667199@www.granfondo.it
SUMMARY:Durona Bike
DESCRIPTION:
URL:https://www.granfondo.it/granfondo/durona-bike/
LOCATION:Chiampo\, Latina
CATEGORIES:Mountain Bike
ATTACH;FMTTYPE=image/jpeg:https://www.granfondo.it/wp-content/uploads/2018/12/Cattura-1.jpg
END:VEVENT
BEGIN:VEVENT
DTSTART;VALUE=DATE:20260524
DTEND;VALUE=DATE:20260525
DTSTAMP:20260422T154156
CREATED:20230228T133814Z
LAST-MODIFIED:20251101T145140Z
UID:34221-1779580800-1779667199@www.granfondo.it
SUMMARY:GranForcora Bike
DESCRIPTION:
URL:https://www.granfondo.it/granfondo/granforcora-bike/
LOCATION:Maccagno con Pino e Veddasca\, Latina
CATEGORIES:Mountain Bike
ATTACH;FMTTYPE=image/jpeg:https://www.granfondo.it/wp-content/uploads/2016/06/Mtb_Garda_Marathon_1.20_del_19.08.19-foto1-e1609336849327.jpg
ORGANIZER;CN="Mtb%20S.Martino%20di%20Valcuvia%20Asd":MAILTO:valli_bike@libero.it
END:VEVENT
BEGIN:VEVENT
DTSTART;VALUE=DATE:20260524
DTEND;VALUE=DATE:20260525
DTSTAMP:20260422T154156
CREATED:20231217T135539Z
LAST-MODIFIED:20260105T185848Z
UID:39353-1779580800-1779667199@www.granfondo.it
SUMMARY:GranFondo di  Romagna
DESCRIPTION:
URL:https://www.granfondo.it/granfondo/granfondo-di-romagna/
LOCATION:Bagno di Romagna\, Bagno di Romagna\, Forla - Cesena\, Italia
CATEGORIES:Mountain Bike
ATTACH;FMTTYPE=image/jpeg:https://www.granfondo.it/wp-content/uploads/2023/12/Cattura-3.jpg
ORGANIZER;CN="Bike-Advisor%20ASD":MAILTO:info@bike-advisor.it
END:VEVENT
END:VCALENDAR