BEGIN:VCALENDAR
VERSION:2.0
PRODID:-//GRAN FONDO - Corse, gare e granfondo in Italia - ECPv4.9.14//NONSGML v1.0//EN
CALSCALE:GREGORIAN
METHOD:PUBLISH
X-WR-CALNAME:GRAN FONDO - Corse, gare e granfondo in Italia
X-ORIGINAL-URL:https://www.granfondo.it
X-WR-CALDESC:Eventi per GRAN FONDO - Corse, gare e granfondo in Italia
BEGIN:VTIMEZONE
TZID:Europe/Paris
BEGIN:DAYLIGHT
TZOFFSETFROM:+0100
TZOFFSETTO:+0200
TZNAME:CEST
DTSTART:20260329T010000
END:DAYLIGHT
BEGIN:STANDARD
TZOFFSETFROM:+0200
TZOFFSETTO:+0100
TZNAME:CET
DTSTART:20261025T010000
END:STANDARD
END:VTIMEZONE
BEGIN:VEVENT
DTSTART;VALUE=DATE:20260510
DTEND;VALUE=DATE:20260511
DTSTAMP:20260425T152144
CREATED:20160525T150040Z
LAST-MODIFIED:20251101T135653Z
UID:3746-1778371200-1778457599@www.granfondo.it
SUMMARY:Gran Fondo San Benedetto del Tronto
DESCRIPTION:
URL:https://www.granfondo.it/granfondo/gran-fondo-san-benedetto-del-tronto/
LOCATION:San Benedetto del Tronto\, San Benedetto del Tronto\, Acapoli Piceno\, Italia
CATEGORIES:Bici Da Corsa
ATTACH;FMTTYPE=image/jpeg:https://www.granfondo.it/wp-content/uploads/2016/05/Cattura-62-e1732111451696.jpg
ORGANIZER;CN="A.S.D.%20SBT%20TEAM":MAILTO:gfsanbenedettodeltronto@gmail.com
END:VEVENT
BEGIN:VEVENT
DTSTART;VALUE=DATE:20260510
DTEND;VALUE=DATE:20260511
DTSTAMP:20260425T152144
CREATED:20160609T053827Z
LAST-MODIFIED:20251213T135334Z
UID:4987-1778371200-1778457599@www.granfondo.it
SUMMARY:Giro della Romagna
DESCRIPTION:
URL:https://www.granfondo.it/granfondo/giro-della-romagna/
LOCATION:Ravenna\, Acapoli Piceno\, Italia
CATEGORIES:Bici Da Corsa
ATTACH;FMTTYPE=image/jpeg:https://www.granfondo.it/wp-content/uploads/2019/04/Granfondo-Cassino.jpg
ORGANIZER;CN="A.S.D.%20Unione%20Cicloturistica%20FRANCESCO%20BARACCA%20LUGO":MAILTO:info@ucfbaracca.it
END:VEVENT
BEGIN:VEVENT
DTSTART;VALUE=DATE:20260510
DTEND;VALUE=DATE:20260511
DTSTAMP:20260425T152144
CREATED:20160609T063720Z
LAST-MODIFIED:20260105T173518Z
UID:5068-1778371200-1778457599@www.granfondo.it
SUMMARY:Gran Fondo Alberobello e delle Murge
DESCRIPTION:
URL:https://www.granfondo.it/granfondo/gran-fondo-alberobello-delle-murge/
LOCATION:Alberobello\, Alberobello                            \, Bari\, Italia
CATEGORIES:Bici Da Corsa
ATTACH;FMTTYPE=image/jpeg:https://www.granfondo.it/wp-content/uploads/2016/06/IMG_0336.jpg
ORGANIZER;CN="A.S.D.%20Spes%20Alberobello":MAILTO:info@spesalberobello.it
END:VEVENT
BEGIN:VEVENT
DTSTART;VALUE=DATE:20260510
DTEND;VALUE=DATE:20260511
DTSTAMP:20260425T152144
CREATED:20221130T142930Z
LAST-MODIFIED:20251213T135442Z
UID:30234-1778371200-1778457599@www.granfondo.it
SUMMARY:Gran Fondo Rerum Novarum Città di Carpineto Romano
DESCRIPTION:
URL:https://www.granfondo.it/granfondo/gran-fondo-rerum-novarum-citta-di-carpineto-romano/
LOCATION:Carpineto Romano\, Acapoli Piceno
CATEGORIES:Mountain Bike
ATTACH;FMTTYPE=image/jpeg:https://www.granfondo.it/wp-content/uploads/2022/11/Cattura.jpg
END:VEVENT
BEGIN:VEVENT
DTSTART;VALUE=DATE:20260510
DTEND;VALUE=DATE:20260511
DTSTAMP:20260425T152144
CREATED:20231208T143037Z
LAST-MODIFIED:20260105T172931Z
UID:39224-1778371200-1778457599@www.granfondo.it
SUMMARY:BGY Airport Granfondo
DESCRIPTION:
URL:https://www.granfondo.it/granfondo/bgy-airport-granfondo/
LOCATION:Bergamo\, Acapoli Piceno
CATEGORIES:Bici Da Corsa
ATTACH;FMTTYPE=image/jpeg:https://www.granfondo.it/wp-content/uploads/2023/12/Cattura-1-e1732113012661.jpg
ORGANIZER;CN="BGY%20Airport%20Granfondo":MAILTO:info@granfondobgy.it
END:VEVENT
BEGIN:VEVENT
DTSTART;VALUE=DATE:20260510
DTEND;VALUE=DATE:20260511
DTSTAMP:20260425T152144
CREATED:20240108T132950Z
LAST-MODIFIED:20260105T172839Z
UID:39648-1778371200-1778457599@www.granfondo.it
SUMMARY:Trofeo Spacefarma
DESCRIPTION:
URL:https://www.granfondo.it/granfondo/trofeo-spacefarma/
LOCATION:Caltignaga\, Acapoli Piceno
CATEGORIES:Bici Da Corsa
ATTACH;FMTTYPE=image/jpeg:https://www.granfondo.it/wp-content/uploads/2023/12/cyclist-6591830_1280.jpg
ORGANIZER;CN="ASD%20GC%2795%20NOVARA":MAILTO:segreteriagc95@gmail.com
END:VEVENT
END:VCALENDAR