BEGIN:VCALENDAR
VERSION:2.0
PRODID:-//GRAN FONDO - Corse, gare e granfondo in Italia - ECPv4.9.14//NONSGML v1.0//EN
CALSCALE:GREGORIAN
METHOD:PUBLISH
X-WR-CALNAME:GRAN FONDO - Corse, gare e granfondo in Italia
X-ORIGINAL-URL:https://www.granfondo.it
X-WR-CALDESC:Eventi per GRAN FONDO - Corse, gare e granfondo in Italia
BEGIN:VTIMEZONE
TZID:Europe/Paris
BEGIN:DAYLIGHT
TZOFFSETFROM:+0100
TZOFFSETTO:+0200
TZNAME:CEST
DTSTART:20260329T010000
END:DAYLIGHT
BEGIN:STANDARD
TZOFFSETFROM:+0200
TZOFFSETTO:+0100
TZNAME:CET
DTSTART:20261025T010000
END:STANDARD
END:VTIMEZONE
BEGIN:VEVENT
DTSTART;VALUE=DATE:20260509
DTEND;VALUE=DATE:20260510
DTSTAMP:20260425T170457
CREATED:20160609T071829Z
LAST-MODIFIED:20260424T190034Z
UID:5118-1778284800-1778371199@www.granfondo.it
SUMMARY:Gran Fondo Capoliveri Legend Cup
DESCRIPTION:La Capoliveri Legend Cup è una gara di mountain bike\, che si svolge nel mese di maggio all’Isola d’Elba\, sui tracciati della Coppa del Mondo Grundig dove\, nel lontano 1994\, i leggendari bikers John Tomac e Ned Overend dettero vita ad un’epica battaglia. Il percorso ogni anno viene meticolosamente preparato dal nostro staff e studiato per scoprire gli angoli più nascosti ed affascinanti del Monte Calamita\, dove sorge il Capoliveri Bike Park con la sua varietà di sentieri ed itinerari vista mare\, con vedute e paesaggi mozzafiato immersi nei profumi della macchia mediterranea. Il percorso della Capoliveri Legend Cup\, affronta una varietà di terreni da vera mountain bike\, con ripide ascese e single track tecnici\, passando per le vecchie strade ferrate delle miniere del Vallone e Ginevro\, per affrontare discese mozzafiato come quella dell’Asta\, dove avrete l’impressione di tuffarvi nel blu del mare dell’Isola d’Elba. \n
URL:https://www.granfondo.it/granfondo/gran-fondo-capoliveri-legend-cup/
LOCATION:Capoliveri\, Capoliveri                            \, Livorno\, Italia
CATEGORIES:Mountain Bike
ATTACH;FMTTYPE=image/jpeg:https://www.granfondo.it/wp-content/uploads/2016/06/Cattura-17.jpg
END:VEVENT
END:VCALENDAR